BEGIN:VCALENDAR
VERSION:2.0
PRODID:-//Kraftur - ECPv6.15.15//NONSGML v1.0//EN
CALSCALE:GREGORIAN
METHOD:PUBLISH
X-WR-CALNAME:Kraftur
X-ORIGINAL-URL:https://kraftur.org
X-WR-CALDESC:Viðburðir í Kraftur
REFRESH-INTERVAL;VALUE=DURATION:PT1H
X-Robots-Tag:noindex
X-PUBLISHED-TTL:PT1H
BEGIN:VTIMEZONE
TZID:UTC
BEGIN:STANDARD
TZOFFSETFROM:+0000
TZOFFSETTO:+0000
TZNAME:UTC
DTSTART:20160101T000000
END:STANDARD
END:VTIMEZONE
BEGIN:VEVENT
DTSTART;TZID=UTC:20170112T194500
DTEND;TZID=UTC:20170112T220000
DTSTAMP:20260421T001602
CREATED:20170106T023622Z
LAST-MODIFIED:20170106T023622Z
UID:957-1484250300-1484258400@kraftur.org
SUMMARY:Bíóferð með Ungliðahópnum
DESCRIPTION:Fimmtudaginn 12. janúar ætlar ungliðahópurinn að skella sér saman  í bíó á myndina The Great Wall. Mæting er 19:45 í Smárábíói Smáralind (við miðasöluna). \nFrekari upplýsingar má finna inn á Facebookhóp ungliðahópsins:\nhttps://www.facebook.com/groups/316463201785345/  \nFrekari upplýsingar veitir einnig Kristján umsjónarmaður hópsins í síma: 8662826. \nUngliðahópurinn er fyrir ungt fólk sem greinst hefur með krabbamein á aldrinum 18-29 ára og aðstandendur þeirra.
URL:https://kraftur.org/vidburdur/bioferd-med-unglidahopnum/
LOCATION:Smárabíó\, Hagasmári 1\, Kópavogur\, Kópavogur\, 201\, Iceland
ATTACH;FMTTYPE=image/jpeg:https://kraftur.org/wp-content/uploads/2017/01/bio_vidburdur-2.jpg
END:VEVENT
END:VCALENDAR