BEGIN:VCALENDAR
VERSION:2.0
PRODID:-//Kraftur - ECPv6.15.15//NONSGML v1.0//EN
CALSCALE:GREGORIAN
METHOD:PUBLISH
X-WR-CALNAME:Kraftur
X-ORIGINAL-URL:https://kraftur.org
X-WR-CALDESC:Viðburðir í Kraftur
REFRESH-INTERVAL;VALUE=DURATION:PT1H
X-Robots-Tag:noindex
X-PUBLISHED-TTL:PT1H
BEGIN:VTIMEZONE
TZID:UTC
BEGIN:STANDARD
TZOFFSETFROM:+0000
TZOFFSETTO:+0000
TZNAME:UTC
DTSTART:20160101T000000
END:STANDARD
END:VTIMEZONE
BEGIN:VEVENT
DTSTART;TZID=UTC:20170126T180000
DTEND;TZID=UTC:20170126T220000
DTSTAMP:20260420T223033
CREATED:20170110T194319Z
LAST-MODIFIED:20170110T194319Z
UID:1078-1485453600-1485468000@kraftur.org
SUMMARY:Fimleikar í Björk með ungliðahópnum
DESCRIPTION:Fimmtudaginn 26. janúar kl. 19:45 ætlum við að hittast í Fimleikafélaginu Björk\, Haukahrauni 1\, 220 Hafnarfirði. Við ætlum að skella okkur í skemmtilegar fimleikaæfingar og hafa gaman 🙂 \nÁhugasamir getað skráð sig með því senda tölvupóst á kristjan.fridriks@gmail.com. Einnig er ungliðahópurinn með Facebookhóp þar sem hægt er að fylgjast með dagskránni.\nMunið eftir að koma í þægilegum íþróttafötum. \nSjáumst næsta fimmtudag.
URL:https://kraftur.org/vidburdur/fimleikar-bjork-med-unglidahopnum/
LOCATION:Fimleikafélagið Björk\, Haukahraun 1\, Hafnarfjörður\, 220\, Iceland
ATTACH;FMTTYPE=image/jpeg:https://kraftur.org/wp-content/uploads/2017/01/fimleikar_teikning-2.jpg
END:VEVENT
END:VCALENDAR