BEGIN:VCALENDAR
VERSION:2.0
PRODID:-//Kraftur - ECPv6.15.15//NONSGML v1.0//EN
CALSCALE:GREGORIAN
METHOD:PUBLISH
X-ORIGINAL-URL:https://kraftur.org
X-WR-CALDESC:Viðburðir í Kraftur
REFRESH-INTERVAL;VALUE=DURATION:PT1H
X-Robots-Tag:noindex
X-PUBLISHED-TTL:PT1H
BEGIN:VTIMEZONE
TZID:UTC
BEGIN:STANDARD
TZOFFSETFROM:+0000
TZOFFSETTO:+0000
TZNAME:UTC
DTSTART:20160101T000000
END:STANDARD
END:VTIMEZONE
BEGIN:VEVENT
DTSTART;TZID=UTC:20170130T170000
DTEND;TZID=UTC:20170130T220000
DTSTAMP:20260420T204044
CREATED:20170127T132232Z
LAST-MODIFIED:20170127T132232Z
UID:3538-1485795600-1485813600@kraftur.org
SUMMARY:Perlustund með Krafti
DESCRIPTION:Vegna mikillar eftirspurnar af armböndunum okkar verður perlustund með Krafti mánudaginn næstkomandi. Ætlum við að perla saman í húskynnum Krafts\, Ráðgjafarþjónustu Krabbameinsfélagsins og óskum eftir ykkar aðstoð! \nArmböndin eru með áletruninni „Lífið er núna“ og eru litrík og falleg og auðveld í samsetningu svo allir geta tekið þátt. Þau eru öll perluð í sjálfboðavinnu og því óskum við eftir kröftugum sjálfboðaliðum til að taka þátt í þessu skemmtilega verkefni með okkur. \nSjálboðaliðar geta komið á milli kl. 17 og 22 í Ráðgjafarþjónustu Krabbameinsfélagsins og perlað með okkur. \nÞað mun vera heitt á könnunni\, hlökkum til að sjá ykkur. \nKOMIÐ OG PERLIÐ MEÐ KRAFTI ♥
URL:https://kraftur.org/vidburdur/perlustund-med-krafti/
LOCATION:Kraftur  – Stuðningsfélag fyrir ungt fólk sem greinst hefur með krabbamein og aðstandendur\, Skógarhlíð 8\, Reykjavík\, Reykjavík\, 105\, Iceland
ATTACH;FMTTYPE=image/jpeg:https://kraftur.org/wp-content/uploads/2017/01/16179484_1245259722230823_1841975653141498398_o-2.jpg
END:VEVENT
END:VCALENDAR