BEGIN:VCALENDAR
VERSION:2.0
PRODID:-//Kraftur - ECPv6.15.15//NONSGML v1.0//EN
CALSCALE:GREGORIAN
METHOD:PUBLISH
X-ORIGINAL-URL:https://kraftur.org
X-WR-CALDESC:Viðburðir í Kraftur
REFRESH-INTERVAL;VALUE=DURATION:PT1H
X-Robots-Tag:noindex
X-PUBLISHED-TTL:PT1H
BEGIN:VTIMEZONE
TZID:UTC
BEGIN:STANDARD
TZOFFSETFROM:+0000
TZOFFSETTO:+0000
TZNAME:UTC
DTSTART:20160101T000000
END:STANDARD
END:VTIMEZONE
BEGIN:VEVENT
DTSTART;TZID=UTC:20170223T200000
DTEND;TZID=UTC:20170223T220000
DTSTAMP:20260420T205204
CREATED:20170110T200702Z
LAST-MODIFIED:20170110T200702Z
UID:1127-1487880000-1487887200@kraftur.org
SUMMARY:Bingó hjá Ungliðahópnum
DESCRIPTION:Fimmtudaginn 23. febrúar verður Ungliðahópur Ljóssins\, Krafts og SKB með geggjað bingókvöld. Mæting er í Ljósið\, Langholtsveg 43\, rétt fyrir kl. 20 og byrjar bingóið að rúlla fljótlega eftir það. \nMeðal vinninga er dekurpakki í Bláa Lónið\, út að borða á American Style\, gos frá Vífilfell og margt margt fleira. \nNánari upplýsingar er hægt að finna inn á Facebookhóp Ungliðahópsins. 
URL:https://kraftur.org/vidburdur/bingo-hja-unglidahopnum/
LOCATION:Ljósið\, Langholtsvegur 43\, Reykjavík\, Iceland
ATTACH;FMTTYPE=image/png:https://kraftur.org/wp-content/uploads/2017/01/BINGO-2.png
END:VEVENT
END:VCALENDAR