BEGIN:VCALENDAR
VERSION:2.0
PRODID:-//Kraftur - ECPv6.15.15//NONSGML v1.0//EN
CALSCALE:GREGORIAN
METHOD:PUBLISH
X-WR-CALNAME:Kraftur
X-ORIGINAL-URL:https://kraftur.org
X-WR-CALDESC:Viðburðir í Kraftur
REFRESH-INTERVAL;VALUE=DURATION:PT1H
X-Robots-Tag:noindex
X-PUBLISHED-TTL:PT1H
BEGIN:VTIMEZONE
TZID:UTC
BEGIN:STANDARD
TZOFFSETFROM:+0000
TZOFFSETTO:+0000
TZNAME:UTC
DTSTART:20160101T000000
END:STANDARD
END:VTIMEZONE
BEGIN:VEVENT
DTSTART;TZID=UTC:20170305T130000
DTEND;TZID=UTC:20170305T170000
DTSTAMP:20260420T185844
CREATED:20170301T222956Z
LAST-MODIFIED:20170301T222956Z
UID:4871-1488718800-1488733200@kraftur.org
SUMMARY:Perlað með Krafti á Selfossi
DESCRIPTION:Nú ætlar Kraftur að halda perlustund á Selfossi og ekki seinna vænna þar sem armböndin okkar eru enn og aftur farin að klárast. Ætlum við að perla saman í húskynnum Fjölheima við Tryggvagötu á Selfossi milli kl. 13 – 17 og óskum við eftir ykkar aðstoð! \nArmböndin eru með áletruninni „Lífið er núna“ og eru litrík og falleg og auðveld í samsetningu svo allir geta tekið þátt. Þau eru öll perluð í sjálfboðavinnu og því óskum við eftir kröftugum sjálfboðaliðum til að taka þátt í þessu skemmtilega verkefni með okkur. \nSjálboðaliðar geta komið á milli kl. 13 og 17 í Fjölheima við Tryggvagötu og perlað með okkur. \nÞað mun vera heitt á könnunni\, hlökkum til að sjá ykkur. \nKOMIÐ OG PERLIÐ MEÐ KRAFTI ♥
URL:https://kraftur.org/vidburdur/perlad-med-krafti-selfossi/
LOCATION:Fjölheimar\, Tryggvagötu 13\, Selfoss\, Selfoss\, 800\, Iceland
ATTACH;FMTTYPE=image/jpeg:https://kraftur.org/wp-content/uploads/2017/01/16179484_1245259722230823_1841975653141498398_o-2.jpg
END:VEVENT
END:VCALENDAR