BEGIN:VCALENDAR
VERSION:2.0
PRODID:-//Kraftur - ECPv6.15.15//NONSGML v1.0//EN
CALSCALE:GREGORIAN
METHOD:PUBLISH
X-WR-CALNAME:Kraftur
X-ORIGINAL-URL:https://kraftur.org
X-WR-CALDESC:Viðburðir í Kraftur
REFRESH-INTERVAL;VALUE=DURATION:PT1H
X-Robots-Tag:noindex
X-PUBLISHED-TTL:PT1H
BEGIN:VTIMEZONE
TZID:UTC
BEGIN:STANDARD
TZOFFSETFROM:+0000
TZOFFSETTO:+0000
TZNAME:UTC
DTSTART:20160101T000000
END:STANDARD
END:VTIMEZONE
BEGIN:VEVENT
DTSTART;TZID=UTC:20170819T084500
DTEND;TZID=UTC:20170819T113000
DTSTAMP:20260420T204909
CREATED:20170814T155658Z
LAST-MODIFIED:20170814T155658Z
UID:1199228-1503132300-1503142200@kraftur.org
SUMMARY:Hvatningarstöð Krafts og Krabbameinsfélagsins
DESCRIPTION:Kæru velunnarar og stuðningsmenn hlaupara \nHvetjum ykkur til að mæta með læti á laugardaginn 19.ágúst og hvetja þá fjölmörgu hlaupara sem eru að fara hlaupa fyrir Kraft og Krabbameinsfélagið í Reykjavíkurmaraþoninu. \nFélögin verður með hvatningarstöð á Ægissíðunni við Dunhaga. Þetta mun örugglega ekki fara fram hjá ykkur þar sem við verðum appelsínugul bak og fyrir með stóran borða með Kraftslogoinu og fána Krabbameinsfélagsins.\nMaraþonið og 1/2 maraþonið er ræst kl. 8:40 og 10 km. hlaupið er ræst kl. 9:35 svo gott er að mæta ekki mikið seinna en kl. 10 en starfsfólk Krafts og KÍ verður mætt kl. 8:30 fyrir „early birds“.\nBoðið verður upp á kaffi og meððí fyrir hvatningarliðið okkar 🙂 \nMinnum ykkur á lokanir gatna vegna maraþonsins en upplýsingar um það má finna hér. https://marathon.is/kort/truflun-a-umferdh \nFyrir frekari upplýsingar er hægt að hafa samband við Huldu framkvæmdastjóra í síma: 866 9600. \nHlökkum til að sjá ykkur sem flest 🙂
URL:https://kraftur.org/vidburdur/hvatningarstod-krafts-og-krabbameinsfelagsins/
ATTACH;FMTTYPE=image/jpeg:https://kraftur.org/wp-content/uploads/2017/08/2016-08-20-09.35.40-e1502726375632-2-scaled.jpg
END:VEVENT
END:VCALENDAR