BEGIN:VCALENDAR
VERSION:2.0
PRODID:-//Kraftur - ECPv6.15.15//NONSGML v1.0//EN
CALSCALE:GREGORIAN
METHOD:PUBLISH
X-WR-CALNAME:Kraftur
X-ORIGINAL-URL:https://kraftur.org
X-WR-CALDESC:Viðburðir í Kraftur
REFRESH-INTERVAL;VALUE=DURATION:PT1H
X-Robots-Tag:noindex
X-PUBLISHED-TTL:PT1H
BEGIN:VTIMEZONE
TZID:UTC
BEGIN:STANDARD
TZOFFSETFROM:+0000
TZOFFSETTO:+0000
TZNAME:UTC
DTSTART:20170101T000000
END:STANDARD
END:VTIMEZONE
BEGIN:VEVENT
DTSTART;TZID=UTC:20180204T130000
DTEND;TZID=UTC:20180204T170000
DTSTAMP:20260421T020310
CREATED:20180117T234212Z
LAST-MODIFIED:20180117T234212Z
UID:1203945-1517749200-1517763600@kraftur.org
SUMMARY:Perlað af Krafti í Hörpu!
DESCRIPTION:Kraftur\, félag ungs fólks sem greinst hefur með krabbamein og aðstandendur ætlar að slá Íslandsmet í að perla armbönd þann\n4.febrúar á alþjóðadegi gegn krabbameina í Hörpunni. Verður þetta lokahnykkur á átaki Krafts í janúar. \nLeggðu þitt af mörkum og komdu og perlaðu með Krafti til að styðja við bakið á ungu fólki sem greinst hefur með krabbamein og aðstandendum. \nFram koma:\nValdimar\nAmabadama\nÚlfurÚlfur\nDJ Sóley \nHvar: Hörpunni\, 1.hæð Flóa\nHvenær: Sun. 4.febrúar kl. 13-17 \nFrí bílastæði í bílakjallara Hörpu meðan á viðburð stendur.
URL:https://kraftur.org/vidburdur/perlad-af-krafti-horpunni/
LOCATION:Harpa\, Austurbakka 2\, Reykjavík\, Reykjavík\, 101\, Iceland
ATTACH;FMTTYPE=image/jpeg:https://kraftur.org/wp-content/uploads/2018/01/75A0285net-2-2.jpg
END:VEVENT
END:VCALENDAR