BEGIN:VCALENDAR
VERSION:2.0
PRODID:-//Kraftur - ECPv6.15.15//NONSGML v1.0//EN
CALSCALE:GREGORIAN
METHOD:PUBLISH
X-ORIGINAL-URL:https://kraftur.org
X-WR-CALDESC:Viðburðir í Kraftur
REFRESH-INTERVAL;VALUE=DURATION:PT1H
X-Robots-Tag:noindex
X-PUBLISHED-TTL:PT1H
BEGIN:VTIMEZONE
TZID:UTC
BEGIN:STANDARD
TZOFFSETFROM:+0000
TZOFFSETTO:+0000
TZNAME:UTC
DTSTART:20170101T000000
END:STANDARD
END:VTIMEZONE
BEGIN:VEVENT
DTSTART;TZID=UTC:20180303T140000
DTEND;TZID=UTC:20180303T153000
DTSTAMP:20260421T054334
CREATED:20180228T204246Z
LAST-MODIFIED:20180228T204246Z
UID:1215601-1520085600-1520091000@kraftur.org
SUMMARY:Badminton með FítonsKrafti
DESCRIPTION:FítonsKraftur ætlar að skella sér í badminton á laugardaginn 3.mars og þér er boðið með. Ætlum við að hittast í Tennis og badmintonfélagi Reykjavíkur kl. 14. Allir eru velkomnir óháð getu….ef þú þorir 😉\nÞeir sem hafa áhuga á að vera með láta Atla\, þjálfara\, vita í síma: 6632252 eða með því að senda tölvupóst á fitonskraftur@kraftur.org. \nHér má einnig sjá meira um starfsemi FítonsKrafts og Facebook hóp sem hægt er að óska eftir inngöngu.
URL:https://kraftur.org/vidburdur/badminton-med-fitonskrafti/
LOCATION:TBR\, Gnoðarvogur 1\, Reykjavík\, Reykjavík\, 104\, Iceland
ATTACH;FMTTYPE=image/jpeg:https://kraftur.org/wp-content/uploads/2018/02/28643041_10154883368311362_1720392194_o-2.jpg
END:VEVENT
END:VCALENDAR