BEGIN:VCALENDAR
VERSION:2.0
PRODID:-//Kraftur - ECPv6.15.15//NONSGML v1.0//EN
CALSCALE:GREGORIAN
METHOD:PUBLISH
X-WR-CALNAME:Kraftur
X-ORIGINAL-URL:https://kraftur.org
X-WR-CALDESC:Viðburðir í Kraftur
REFRESH-INTERVAL;VALUE=DURATION:PT1H
X-Robots-Tag:noindex
X-PUBLISHED-TTL:PT1H
BEGIN:VTIMEZONE
TZID:UTC
BEGIN:STANDARD
TZOFFSETFROM:+0000
TZOFFSETTO:+0000
TZNAME:UTC
DTSTART:20170101T000000
END:STANDARD
END:VTIMEZONE
BEGIN:VEVENT
DTSTART;TZID=UTC:20180308T173000
DTEND;TZID=UTC:20180308T183000
DTSTAMP:20260421T053822
CREATED:20180305T120858Z
LAST-MODIFIED:20180305T120858Z
UID:1215829-1520530200-1520533800@kraftur.org
SUMMARY:FítonsYoga
DESCRIPTION:Ykkur er boðið í jóga! \nÁ fimmtudaginn næstkomandi 8.mars frá kl. 17:30 – 18:30 ætlar Þóra Rós Guðbjartsdóttir að leiða okkur í gegnum mjúkt vinyasa flæði\, þar sem lögð verður áhersla á góðar djúpar teygjur\, öndun og djúpa slökun í lokin.\nTíminn hentar bæði byrjendum sem lengra komnum svo allir ættu að geta tekið þátt á sínum forsendum. \nÞóra Rós útskrifaðist sem jógakennari frá Yoga Shala árið 2015 og rak um tíma sitt eigið jógastúdíó 101 Yoga. Í vetur hefur hún verið að kenna hot yoga í Hreyfingu. \nÞetta er opinn viðburður á vegum FítonsKrafts svo allir félagsmenn eru velkomnir. \nHlökkum til að sjá ykkur 🙂
URL:https://kraftur.org/vidburdur/fitonsyoga/
LOCATION:Heilsuborg\, Bíldshöfði 9\, Reykjavík\, 110\, Iceland
ATTACH;FMTTYPE=image/jpeg:https://kraftur.org/wp-content/uploads/2018/03/Fitonsjoga_585x300-1.jpg
END:VEVENT
BEGIN:VEVENT
DTSTART;TZID=UTC:20180308T193000
DTEND;TZID=UTC:20180308T220000
DTSTAMP:20260421T053822
CREATED:20180102T181336Z
LAST-MODIFIED:20180102T181336Z
UID:1202921-1520537400-1520546400@kraftur.org
SUMMARY:Borðtennis - Ungliðahópurinn
DESCRIPTION:Borðtennisgleði verður hjá Ungliðahópnum í TBR fim. 8.mars.\nFrekari upplýsingar um viðburðinn má finna inn á Facebookhóp Ungliðahópsins. \nUngliðahópurinn er fyrir ungt fólk sem greinst hefur með krabbamein á aldrinum 18-29 ára og aðstandendur. Hópurinn hittist tvisvar sinnum í mánuði og er samstarfsverkefni Krafts\, Ljóssins og SKB.\nUmsjónarmaður hópsins er Kristján Friðriksson\, s: 866 2826 og tölvupóstur: kristjan.fridriks@gmail.com
URL:https://kraftur.org/vidburdur/bordtennis-unglidahopurinn/
LOCATION:TBR\, Gnoðarvogur 1\, Reykjavík\, Reykjavík\, 104\, Iceland
ATTACH;FMTTYPE=image/png:https://kraftur.org/wp-content/uploads/2018/01/EventTableTennis-2.png
END:VEVENT
END:VCALENDAR