BEGIN:VCALENDAR
VERSION:2.0
PRODID:-//Kraftur - ECPv6.15.15//NONSGML v1.0//EN
CALSCALE:GREGORIAN
METHOD:PUBLISH
X-ORIGINAL-URL:https://kraftur.org
X-WR-CALDESC:Viðburðir í Kraftur
REFRESH-INTERVAL;VALUE=DURATION:PT1H
X-Robots-Tag:noindex
X-PUBLISHED-TTL:PT1H
BEGIN:VTIMEZONE
TZID:UTC
BEGIN:STANDARD
TZOFFSETFROM:+0000
TZOFFSETTO:+0000
TZNAME:UTC
DTSTART:20170101T000000
END:STANDARD
END:VTIMEZONE
BEGIN:VEVENT
DTSTART;TZID=UTC:20180417T171500
DTEND;TZID=UTC:20180417T183000
DTSTAMP:20260421T074135
CREATED:20180412T154401Z
LAST-MODIFIED:20180412T154401Z
UID:1216760-1523985300-1523989800@kraftur.org
SUMMARY:Matarræði í veikindum - fyrirlestur
DESCRIPTION:Skiptir máli hvað við borðum þegar við veikjumst er spurning sem margir velta fyrir sér.\nJóhanna E. Torfadottir\, næringar- og lýðheilsufræðingur hjá Miðstöð í lýðheilsuvísindum við Háskóla Íslands mun kappkosta við að svara þessari spurningu á fyrirlestrinum \nFyrirlesturinn mun vera næstkomandi þriðjudag 17.apríl kl. 17:15 í húsnæði Ráðgjafarþjónustu Krabbameinsfélagsins\, Skógarhlíð 8.\nEr þetta fimmti fyrirlesturinn í mánaðarlegri fyrirlestraröð Krafts – Ungt fólk og krabbamein. \nLéttar veitingar í boði og opnar umræður í lokin.
URL:https://kraftur.org/vidburdur/matarraedi-veikindum-fyrirlestur/
LOCATION:Kraftur  – Stuðningsfélag fyrir ungt fólk sem greinst hefur með krabbamein og aðstandendur\, Skógarhlíð 8\, Reykjavík\, Reykjavík\, 105\, Iceland
ATTACH;FMTTYPE=image/png:https://kraftur.org/wp-content/uploads/2018/04/Mataraedi-i-veikindum-04-1.png
END:VEVENT
BEGIN:VEVENT
DTSTART;TZID=UTC:20180109T173000
DTEND;TZID=UTC:20180109T183000
DTSTAMP:20260421T074135
CREATED:20180102T173701Z
LAST-MODIFIED:20180102T173701Z
UID:1202853-1515519000-1515522600@kraftur.org
SUMMARY:Æfing hjá FítonsKrafti
DESCRIPTION:FítonsKraftur er endurhæfing í formi hreyfingar og útivistar fyrir ungt fólk sem greinst hefur með krabbamein.\nÆfingar eru í Heilsuborg 2x í viku undir handleiðslu Atla Más Sveinssonar íþróttafræðings. Frekari upplýsingar og skráning má finna hér.
URL:https://kraftur.org/vidburdur/aefing-hja-fitonskrafti-4/
LOCATION:Heilsuborg\, Bíldshöfði 9\, Reykjavík\, 110\, Iceland
END:VEVENT
BEGIN:VEVENT
DTSTART;TZID=UTC:20180417T193000
DTEND;TZID=UTC:20180417T220000
DTSTAMP:20260421T074135
CREATED:20180102T182951Z
LAST-MODIFIED:20180102T182951Z
UID:1202931-1523993400-1524002400@kraftur.org
SUMMARY:Sund og matur - Ungliðahópurinn
DESCRIPTION:Ungliðahópurinn ætlar að skella sér í sund og út að borða þri. 17.apríl þar sem Sumardagurinn fyrsti er 19.apríl.\nFrekari upplýsingar um viðburðinn má finna inn á Facebookhóp Ungliðahópsins. \nUngliðahópurinn er fyrir ungt fólk sem greinst hefur með krabbamein á aldrinum 18-29 ára og aðstandendur. Hópurinn hittist tvisvar sinnum í mánuði og er samstarfsverkefni Krafts\, Ljóssins og SKB.\nUmsjónarmaður hópsins er Kristján Friðriksson\, s: 866 2826 og tölvupóstur: kristjan.fridriks@gmail.com
URL:https://kraftur.org/vidburdur/sund-og-matur-unglidahopurinn/
ATTACH;FMTTYPE=image/jpeg:https://kraftur.org/wp-content/uploads/2016/11/IMG_0513-scaled.jpg
END:VEVENT
END:VCALENDAR