BEGIN:VCALENDAR
VERSION:2.0
PRODID:-//Kraftur - ECPv6.15.15//NONSGML v1.0//EN
CALSCALE:GREGORIAN
METHOD:PUBLISH
X-ORIGINAL-URL:https://kraftur.org
X-WR-CALDESC:Viðburðir í Kraftur
REFRESH-INTERVAL;VALUE=DURATION:PT1H
X-Robots-Tag:noindex
X-PUBLISHED-TTL:PT1H
BEGIN:VTIMEZONE
TZID:UTC
BEGIN:STANDARD
TZOFFSETFROM:+0000
TZOFFSETTO:+0000
TZNAME:UTC
DTSTART:20170101T000000
END:STANDARD
END:VTIMEZONE
BEGIN:VEVENT
DTSTART;TZID=UTC:20180512T120000
DTEND;TZID=UTC:20180512T160000
DTSTAMP:20260425T103823
CREATED:20180505T171221Z
LAST-MODIFIED:20180505T171221Z
UID:1217285-1526126400-1526140800@kraftur.org
SUMMARY:Perlað af Krafti fyrir Ísland
DESCRIPTION:Ná stuðningsmenn að setja Íslandsmet? \nTólfan og Kraftur koma saman og perla armbönd til stuðnings ungu fólki sem greinst hefur með krabbamein og aðstandendum. \nMætið á völlinn og leggið ykkar af mörkum til að perla fyrir Kraft og sýna samstöðu með íslenska landsliðinu fyrir HM. \nFram koma:\n– Hreimur\n– Stefanía Svavars\n– Karlakórinn Esja\n– Sóli Hólm\n– Landsliðsþjálfarar etja keppni í perlun armbanda\n– Gummi Ben\n– Þekktir íþróttamenn verða á svæðinu \nFrábær upphitun og skemmtun fyrir HM – fyrir alla fjölskylduna þar sem sannkölluð þjóðhátíðarstemning mun verða í Laugardalnum \nÁFRAM ÍSLAND – HÚ!
URL:https://kraftur.org/vidburdur/perlad-af-krafti-fyrir-island/
LOCATION:Stúkan Laugardalsvelli\, Laugardalsvöllur\, Reykjavík\, Reykjavík\, 104\, Iceland
ATTACH;FMTTYPE=image/png:https://kraftur.org/wp-content/uploads/2018/05/FB-Event-maettu-a-vollinn-2.png
END:VEVENT
END:VCALENDAR