BEGIN:VCALENDAR
VERSION:2.0
PRODID:-//Kraftur - ECPv6.15.15//NONSGML v1.0//EN
CALSCALE:GREGORIAN
METHOD:PUBLISH
X-ORIGINAL-URL:https://kraftur.org
X-WR-CALDESC:Viðburðir í Kraftur
REFRESH-INTERVAL;VALUE=DURATION:PT1H
X-Robots-Tag:noindex
X-PUBLISHED-TTL:PT1H
BEGIN:VTIMEZONE
TZID:UTC
BEGIN:STANDARD
TZOFFSETFROM:+0000
TZOFFSETTO:+0000
TZNAME:UTC
DTSTART:20170101T000000
END:STANDARD
END:VTIMEZONE
BEGIN:VEVENT
DTSTART;TZID=UTC:20180610T130000
DTEND;TZID=UTC:20180610T170000
DTSTAMP:20260425T120441
CREATED:20180606T003633Z
LAST-MODIFIED:20180606T003633Z
UID:1221528-1528635600-1528650000@kraftur.org
SUMMARY:Perlað af Krafti með Val
DESCRIPTION:Valur verður fyrsta íþróttafélagið á höfuðborgarsvæðinu til að reyna við perlubikarinn! \nSunnudaginn 10. júní milli kl. 13 – 17 ætlar íþróttafélagið Valur að reyna við Perlubikarinn svokallaðan. En Perlubikarinn hlýtur það íþróttafélag og/eða bæjarfélag sem nær að perla\, á fjórum klukkustundum\, flest armbönd til styrktar Krafti. \nMeð því að taka þátt í viðburðinum geta Valsarar átt möguleika á að hreppa perlubikarinn en til þess þarf að perla meira en 2302 armbönd á fjórum tímum en það met settu Akureyringar og íþróttafélögin þar í byrjun maí. Akureyringar náðu þá bikarnum af Eyjamönnum en skoruðu svo á Austfirðinga og íþróttafélögin þar að reyna betur og ná af þeim metinu\, sá viðburður fer fram laugardaginn 9.júní. Perlubikarinn hljóta þeir viðburðarhaldarar sem að ná að perla sem flest armbönd. \nArmböndin sem um ræðir eru í fánalitunum þau eru seld til stuðnings Krafti og sýna einnig samstöðu með íslenska fótboltaliðinu á HM. Armböndin eru með áletruninni „Lífið er núna“ og eru auðveld í samsetningu svo að allir geta tekið þátt\, börn sem fullorðnir. \nVið hvetjum Valsara\, leikmenn og stuðningsmenn\, að taka þátt í þessu skemmtilega verkefni með okkur. Öll armböndin eru perluð í sjálfboðavinnu og því mikil hugsjón bakvið hvert armband. Allur ágóði af sölu armbandanna rennur til Krafts – stuðningsfélag fyrir ungt fólk sem greinst hefur með krabbamein og aðstandendur og er hægt að kaupa armböndin líka strax á staðnum. \nHlökkum til að sjá alla Valsara og stuðningsmenn þeirra í Origo höllinni að Hlíðarenda. \nKOMIÐ OG PERLIÐ AF KRAFTI ♥
URL:https://kraftur.org/vidburdur/perlad-af-krafti-med-val/
LOCATION:Valur\, Hlíðarendi\, Hlíðarendi\, Reykjavík\, Reykjavík\, 101
ATTACH;FMTTYPE=image/jpeg:https://kraftur.org/wp-content/uploads/2018/06/Perlad-af-krafti-med-Val-1-scaled.jpg
END:VEVENT
END:VCALENDAR