BEGIN:VCALENDAR
VERSION:2.0
PRODID:-//Kraftur - ECPv6.15.15//NONSGML v1.0//EN
CALSCALE:GREGORIAN
METHOD:PUBLISH
X-ORIGINAL-URL:https://kraftur.org
X-WR-CALDESC:Viðburðir í Kraftur
REFRESH-INTERVAL;VALUE=DURATION:PT1H
X-Robots-Tag:noindex
X-PUBLISHED-TTL:PT1H
BEGIN:VTIMEZONE
TZID:UTC
BEGIN:STANDARD
TZOFFSETFROM:+0000
TZOFFSETTO:+0000
TZNAME:UTC
DTSTART:20170101T000000
END:STANDARD
END:VTIMEZONE
BEGIN:VEVENT
DTSTART;TZID=UTC:20180702T150000
DTEND;TZID=UTC:20180702T190000
DTSTAMP:20260425T120449
CREATED:20180626T140202Z
LAST-MODIFIED:20180626T140202Z
UID:1226162-1530543600-1530558000@kraftur.org
SUMMARY:Perlað af Krafti með Akranesi og ÍA
DESCRIPTION:Komdu og hjálpaðu Akranesingum og ÍA að ná perlubikarnum til sín! \nMánudaginn 2. júlí milli kl. 15 – 19 í hátíðarsalnum í Íþróttabandalagi Akranes\, Vesturgötu\, ætlar íþróttafélagið ÍA að reyna við Perlubikarinn svokallaðan. En Perlubikarinn hlýtur það íþróttafélag og/eða bæjarfélag sem nær að perla\, á fjórum klukkustundum\, flest armbönd til styrktar Krafti. \nMeð því að taka þátt í viðburðinum geta Akranesingar og ÍA átt möguleika á að hreppa perlubikarinn en til þess þarf að perla meira en 2308 armbönd á fjórum tímum en það met settu Sunnlendingar 20. júní síðastliðinn. Sunnlendingar náðu þá bikarnum af Akureyringum og munaði aldeilis mjóu þar sem Akureyringar voru með 2302 perluð armbönd. HK-ingar reyna við bikarinn 27. júní en Perlubikarinn hljóta þeir viðburðarhaldarar sem að ná að perla sem flest armbönd. \nArmböndin sem um ræðir eru í fánalitunum og eru þau seld til stuðnings Krafti og sýna einnig samstöðu með íslenska fótboltaliðinu á HM. Armböndin eru með áletruninni „Lífið er núna“ og eru auðveld í samsetningu svo að allir geta tekið þátt\, börn sem fullorðnir. \nVið hvetjum Akranesinga og ÍA\, leikmenn og stuðningsmenn\, að taka þátt í þessu skemmtilega verkefni með okkur. Öll armböndin eru perluð í sjálfboðavinnu og því mikil hugsjón bakvið hvert armband. Allur ágóði af sölu armbandanna rennur til Krafts – stuðningsfélags fyrir ungt fólk sem greinst hefur með krabbamein og aðstandendur og er hægt að kaupa armböndin líka strax á staðnum. \nÞetta er skemmtileg stund fyrir alla fjölskylduna og tilvalið tækifæri að láta gott af sér leiða og að sjálfsögðu verður heitt á könnunni! \nKOMIÐ OG PERLIÐ AF KRAFTI ♥
URL:https://kraftur.org/vidburdur/perlad-af-krafti-med-akranesi-og-ia/
LOCATION:íþróttabandalag Akraness\, Vesturgötu 130\, Akranes\, 300\, Iceland
ATTACH;FMTTYPE=image/jpeg:https://kraftur.org/wp-content/uploads/2018/06/36200144_1755715411185249_8008842421842477056_n-2.jpg
END:VEVENT
END:VCALENDAR