BEGIN:VCALENDAR
VERSION:2.0
PRODID:-//Kraftur - ECPv6.15.15//NONSGML v1.0//EN
CALSCALE:GREGORIAN
METHOD:PUBLISH
X-ORIGINAL-URL:https://kraftur.org
X-WR-CALDESC:Viðburðir í Kraftur
REFRESH-INTERVAL;VALUE=DURATION:PT1H
X-Robots-Tag:noindex
X-PUBLISHED-TTL:PT1H
BEGIN:VTIMEZONE
TZID:UTC
BEGIN:STANDARD
TZOFFSETFROM:+0000
TZOFFSETTO:+0000
TZNAME:UTC
DTSTART:20170101T000000
END:STANDARD
END:VTIMEZONE
BEGIN:VEVENT
DTSTART;TZID=UTC:20180708T130000
DTEND;TZID=UTC:20180708T170000
DTSTAMP:20260425T120418
CREATED:20180626T141307Z
LAST-MODIFIED:20180626T141307Z
UID:1226173-1531054800-1531069200@kraftur.org
SUMMARY:Perlað af Krafti með Breiðablik
DESCRIPTION:Breiðablik ætlar að ná Perlubikarnum til sín og þú getur hjálpað \nSunnudaginn 8. júlí milli kl. 13 og 17 ætlar íþróttafélagið Breiðablik að reyna ná til sín Perlubikarnum svokallaða. Perlubikarinn hlýtur það íþróttafélag og/eða sveita/bæjarfélag sem nær að perla sem flest armbönd til styrktar Krafti á tilteknum tíma. \nMeð því að taka þátt í viðburðinum geta Blikar átt möguleika á að hreppa perlubikarinn. Í dag stendur metið í 2308 armböndum á fjórum tímum en það met settu Sunnlendingar 20. júní síðastliðinn. Nokkur félög eiga eftir að reyna við bikarinn og nú er bara að sjá hvaða íþróttafélag nær að perla sem mest á fjórum tímum. \nArmböndin sem um ræðir eru í fánalitunum og eru þau seld til stuðnings Krafti og sýna einnig samstöðu með íslenska fótboltaliðinu á HM. Armböndin eru með áletruninni „Lífið er núna“ og eru auðveld í samsetningu svo að allir geta tekið þátt\, börn sem fullorðnir. \nVið hvetjum alla Blika; leikmenn og stuðningsmenn\, að taka þátt í þessu skemmtilega verkefni með okkur. Öll armböndin eru perluð í sjálfboðavinnu og því mikil hugsjón bakvið hvert armband. Allur ágóði af sölu armbandanna rennur til Krafts – stuðningsfélags fyrir ungt fólk sem greinst hefur með krabbamein og aðstandendur og er hægt að kaupa armböndin líka strax á staðnum. \nÞetta er skemmtileg stund fyrir alla fjölskylduna og tilvalið tækifæri að láta gott af sér leiða og að sjálfsögðu verður heitt á könnunni! \nKOMIÐ OG PERLIÐ AF KRAFTI ♥
URL:https://kraftur.org/vidburdur/perlad-af-krafti-med-breidablik/
LOCATION:Smárinn\, Dalsmári 5\, Kópavogur\, 201\, Iceland
ATTACH;FMTTYPE=image/jpeg:https://kraftur.org/wp-content/uploads/2018/06/36188677_1754420411314749_327842812278079488_n-2.jpg
END:VEVENT
END:VCALENDAR