BEGIN:VCALENDAR
VERSION:2.0
PRODID:-//Kraftur - ECPv6.15.15//NONSGML v1.0//EN
CALSCALE:GREGORIAN
METHOD:PUBLISH
X-ORIGINAL-URL:https://kraftur.org
X-WR-CALDESC:Viðburðir í Kraftur
REFRESH-INTERVAL;VALUE=DURATION:PT1H
X-Robots-Tag:noindex
X-PUBLISHED-TTL:PT1H
BEGIN:VTIMEZONE
TZID:UTC
BEGIN:STANDARD
TZOFFSETFROM:+0000
TZOFFSETTO:+0000
TZNAME:UTC
DTSTART:20170101T000000
END:STANDARD
END:VTIMEZONE
BEGIN:VEVENT
DTSTART;TZID=UTC:20180818T083000
DTEND;TZID=UTC:20180818T113000
DTSTAMP:20260425T153759
CREATED:20180816T010120Z
LAST-MODIFIED:20180816T010120Z
UID:1228517-1534581000-1534591800@kraftur.org
SUMMARY:Hvatningarstöð Krafts og Krabbameinsfélagsins
DESCRIPTION:Kæru félagar og stuðningsmenn hlaupara! \nHvetjum ykkur til að mæta með læti á laugardaginn 18.ágúst og hvetja þá fjölmörgu hlaupara sem eru að fara hlaupa fyrir Kraft og Krabbameinsfélagið í Reykjavíkurmaraþoninu. \nFélögin verða með hvatningarstöð á Ægissíðunni við Dunhaga. Þetta mun örugglega ekki fara fram hjá ykkur þar sem við sem fánar og bannerar félaganna verða mjög sýnilegir\nMaraþonið og 1/2 maraþonið er ræst kl. 8:40 og 10 km. hlaupið er ræst kl. 9:35 svo gott er að mæta ekki mikið seinna en kl. 9:30 en starfsfólk Krafts og KÍ verður mætt kl. 8:30 fyrir „early birds“. Fólki er frjálst að koma og fara og þarf alls ekki að vera allan tímann 🙂\nBoðið verður upp á kaffi og meððí fyrir hvatningarliðið okkar 🙂 \nMinnum ykkur á lokanir gatna vegna maraþonsins en upplýsingar um það má finna hér: https://www.rmi.is/truflun-a-umferd eða hér: https://menningarnott.is/sites/default/files/skjol/hof_krt_hatidarsvedi_menningarnott_0618_islenska_v2_0.pdf \nFyrir frekari upplýsingar er hægt að hafa samband við Huldu framkvæmdastjóra Krafts í síma: 866 9600. \nHlökkum til að sjá ykkur sem flest 🙂
URL:https://kraftur.org/vidburdur/hvatningarstod-krafts-og-krabbameinsfelagsins-2/
LOCATION:Ægissíða
ATTACH;FMTTYPE=image/jpeg:https://kraftur.org/wp-content/uploads/2018/08/file1-2-2-scaled.jpeg
END:VEVENT
END:VCALENDAR