BEGIN:VCALENDAR
VERSION:2.0
PRODID:-//Kraftur - ECPv6.15.15//NONSGML v1.0//EN
CALSCALE:GREGORIAN
METHOD:PUBLISH
X-WR-CALNAME:Kraftur
X-ORIGINAL-URL:https://kraftur.org
X-WR-CALDESC:Viðburðir í Kraftur
REFRESH-INTERVAL;VALUE=DURATION:PT1H
X-Robots-Tag:noindex
X-PUBLISHED-TTL:PT1H
BEGIN:VTIMEZONE
TZID:UTC
BEGIN:STANDARD
TZOFFSETFROM:+0000
TZOFFSETTO:+0000
TZNAME:UTC
DTSTART:20170101T000000
END:STANDARD
END:VTIMEZONE
BEGIN:VEVENT
DTSTART;TZID=UTC:20180821T160000
DTEND;TZID=UTC:20180821T200000
DTSTAMP:20260426T021256
CREATED:20180816T010652Z
LAST-MODIFIED:20180816T010652Z
UID:1228521-1534867200-1534881600@kraftur.org
SUMMARY:Perlað af Krafti með Aftureldingu
DESCRIPTION:Í tilefni af Bæjarhátíð Mosfellbæjar leggur Kraftur leið sína í Mosfellsbæinn og perlar með Aftureldingu og Mosfellingum þriðjudaginn 21. ágúst frá kl. 16-20 í Hlégarði \nMeð því að taka þátt í viðburðinum eru þið að hjálpa okkur að standa við bakið á ungu fólki sem greinst hefur með krabbamein og aðstandendum þess þar sem armböndin eru seld til styrkar félaginu. \nArmböndin sem um ræðir eru í litum Krafts\, appelsíngul og svört. Armböndin eru með áletruninni „Lífið er núna“ og eru auðveld í samsetningu svo að allir geta tekið þátt\, börn sem fullorðnir. \nVið hvetjum Mosfellinga sem og stuðningsmenn og leikmenn Aftureldingar að taka þátt í þessu skemmtilega verkefni með okkur. Öll armböndin eru perluð í sjálfboðavinnu og því mikil hugsjón bakvið hvert armband. Allur ágóði af sölu armbandanna rennur til Krafts – stuðningsfélag fyrir ungt fólk sem greinst hefur með krabbamein og aðstandendur og er hægt að kaupa armböndin líka strax á staðnum. \nÞetta er skemmtileg stund fyrir alla fjölskylduna og tilvalið tækifæri að láta gott af sér leiða og að sjálfsögðu verður heitt á könnunni! \nKOMIÐ OG PERLIÐ AF KRAFTI ♥
URL:https://kraftur.org/vidburdur/perlad-af-krafti-med-aftureldingu/
LOCATION:Hlégarður\, Háholt 2\, Mosfellsbær\, Mosfellsbær\, 270\, Iceland
ATTACH;FMTTYPE=image/jpeg:https://kraftur.org/wp-content/uploads/2017/11/75A5923net-e1535551054176-2.jpg
END:VEVENT
END:VCALENDAR