BEGIN:VCALENDAR
VERSION:2.0
PRODID:-//Kraftur - ECPv6.15.15//NONSGML v1.0//EN
CALSCALE:GREGORIAN
METHOD:PUBLISH
X-WR-CALNAME:Kraftur
X-ORIGINAL-URL:https://kraftur.org
X-WR-CALDESC:Viðburðir í Kraftur
REFRESH-INTERVAL;VALUE=DURATION:PT1H
X-Robots-Tag:noindex
X-PUBLISHED-TTL:PT1H
BEGIN:VTIMEZONE
TZID:UTC
BEGIN:STANDARD
TZOFFSETFROM:+0000
TZOFFSETTO:+0000
TZNAME:UTC
DTSTART:20170101T000000
END:STANDARD
END:VTIMEZONE
BEGIN:VEVENT
DTSTART;TZID=UTC:20180908T100000
DTEND;TZID=UTC:20180908T150000
DTSTAMP:20260425T121744
CREATED:20180903T095503Z
LAST-MODIFIED:20180903T095503Z
UID:1229290-1536400800-1536418800@kraftur.org
SUMMARY:Perlað af Krafti með Hestamannafélaginu Spretti
DESCRIPTION:Kraftur mun leggja leið sína í Kópavoginn að perla með Hestamannafélaginu Spretti á Metamótinu laugardaginn 8. sept frá kl. 11-15. Perlað verður í Arnarfelli\, Veislusal Spretts. \nAllur ágóði af perluðum armböndum á viðburðinum mun renna beint í Neyðarsjóð Krafts og því vel þessi virði að leggja sitt af mörkum því fyrir hvert perlað armband rennur 2000 kr í Neyðarsjóðinn. \nMeð því að taka þátt í viðburðinum eru þið að hjálpa okkur að standa við bakið á ungu fólki sem greinst hefur með krabbamein og aðstandendum þess þar sem armböndin eru seld til styrkar félaginu. \nArmböndin sem um ræðir eru í litum Krafts\, appelsíngul og svört. Armböndin eru með áletruninni „Lífið er núna“ og eru auðveld í samsetningu svo að allir geta tekið þátt\, börn sem fullorðnir. \nVið hvetjum hestamenn sem og gesti og gangandi á mótinu að taka þátt í þessu skemmtilega verkefni með okkur. Öll armböndin eru perluð í sjálfboðavinnu og því mikil hugsjón bakvið hvert armband. Allur ágóði af sölu armbandanna rennur til Krafts – stuðningsfélag fyrir ungt fólk sem greinst hefur með krabbamein og aðstandendur og er hægt að kaupa armböndin líka strax á staðnum. \nÞetta er skemmtileg stund fyrir alla fjölskylduna og tilvalið tækifæri að láta gott af sér leiða. \nKOMIÐ OG PERLIÐ AF KRAFTI ♥
URL:https://kraftur.org/vidburdur/perlad-af-krafti-med-hestamannafelaginu-spretti/
LOCATION:Arnarfell Veislusalur Spretts\, Hestaheimur 14-16\, Reykjavík\, Iceland
ATTACH;FMTTYPE=image/jpeg:https://kraftur.org/wp-content/uploads/2017/11/75A5923net-e1535551054176-2.jpg
END:VEVENT
BEGIN:VEVENT
DTSTART;TZID=UTC:20180908T110000
DTEND;TZID=UTC:20180908T130000
DTSTAMP:20260425T121744
CREATED:20180829T144630Z
LAST-MODIFIED:20180829T144630Z
UID:1229078-1536404400-1536411600@kraftur.org
SUMMARY:Fjallganga á Úlfarsfell með FítonsKrafti
DESCRIPTION:Laugardaginn 8.september ætlar FítonsKraftur – endurhæfingarhópur fyrir ungt fólk sem greinst hefur með krabbamein að fara í göngu upp á Úlfarsfell í Mosfellssveit.\nHisst verður hjá Skógræktarfélagi Mosfellsbæjar við Hamrahlíð undir norðanverðu Úlfarsfelli.\nGönguleiðin er ca 4 kílómetra löng og tekur gönguferð upp á hnjúkinn og niður aftur um eina og hálfa klukkustund. Gangan er nokkuð þægileg og auðveld yfirferðar. \nÞessi viðburður er opinn öllum þeim sem vilja kynna sér starfsemi FítonsKrafts og vilja hreyfa sig í góðum félagsskap\, greindir sem og aðstandendur. \nFrekari upplýsingar gefur Atli þjálfari FítonsKrafts í síma: 663-2252 eða með því að senda póst á fitonskraftur@kraftur.org
URL:https://kraftur.org/vidburdur/fjallganga-ulfarsfell-med-fitonskrafti/
LOCATION:Úlfarsfell\, Bílastæðin við skógræktarsvæðið í vesturhlíðum Úlfarsfells
ATTACH;FMTTYPE=image/png:https://kraftur.org/wp-content/uploads/2018/05/ganga_web2-2.png
END:VEVENT
END:VCALENDAR