BEGIN:VCALENDAR
VERSION:2.0
PRODID:-//Kraftur - ECPv6.15.15//NONSGML v1.0//EN
CALSCALE:GREGORIAN
METHOD:PUBLISH
X-WR-CALNAME:Kraftur
X-ORIGINAL-URL:https://kraftur.org
X-WR-CALDESC:Viðburðir í Kraftur
REFRESH-INTERVAL;VALUE=DURATION:PT1H
X-Robots-Tag:noindex
X-PUBLISHED-TTL:PT1H
BEGIN:VTIMEZONE
TZID:UTC
BEGIN:STANDARD
TZOFFSETFROM:+0000
TZOFFSETTO:+0000
TZNAME:UTC
DTSTART:20170101T000000
END:STANDARD
END:VTIMEZONE
BEGIN:VEVENT
DTSTART;TZID=UTC:20180914T180000
DTEND;TZID=UTC:20180914T220000
DTSTAMP:20260425T133904
CREATED:20180912T232226Z
LAST-MODIFIED:20180912T232226Z
UID:1229500-1536948000-1536962400@kraftur.org
SUMMARY:Stuðningsfulltrúanámskeið á Ísafirði
DESCRIPTION:Stuðningsfulltrúanámskeið fyrir verðandi stuðningsfulltrúa í stuðningsneti Krafts og Ráðgjafarþjónustu Krabbameinsfélagsins verður haldið föstudaginn 14.september kl. 18-22 og 15.september frá klukkan kl. 10-13 Námskeiðið verður haldið í húsnæði Sigurvonar\, Krabbameinsfélagsins á Ísafirði. \nNámskeiðið er bæði ætlað þeim sem hafa greinst með krabbamein og hafa lokið við krabbameinsmeðferð sem og aðstandendum\, sem vilja styðja við einstaklinga sem eru í svipuðum sporum. \nTil að taka þátt á námskeiðinu þarftu að fylla út þetta skráningarform eða sent á  netfangið salfraedingur@kraftur.org.  \nFrekari upplýsingar má sjá hér.
URL:https://kraftur.org/vidburdur/studningsfulltruanamskeid-a-isafirdi/
LOCATION:Sigurvon Krabbameinsfélag\, Pollagata 4\, Ísafjörður\, Ísafjörður\, 400\, Iceland
ATTACH;FMTTYPE=image/jpeg:https://kraftur.org/wp-content/uploads/2018/02/stuðningsnet-e1520983463612.jpg
END:VEVENT
BEGIN:VEVENT
DTSTART;TZID=UTC:20180915T113000
DTEND;TZID=UTC:20180915T153000
DTSTAMP:20260425T133904
CREATED:20180901T180618Z
LAST-MODIFIED:20180901T180618Z
UID:1229262-1537011000-1537025400@kraftur.org
SUMMARY:Perlað af Krafti á Ísafirði
DESCRIPTION:Kraftur leggur leið sína vestur og perlar með Ísfirðingum og nágrenni laugardaginn 15.september kl. 12 – 16 í Grunnskólanum á Ísafirði. \nMeð því að taka þátt í viðburðinum eru þið að hjálpa okkur að standa við bakið á ungu fólki sem greinst hefur með krabbamein og aðstandendum þess þar sem armböndin eru seld til styrkar félaginu. \nArmböndin sem um ræðir eru í litum Krafts\, appelsíngul og svört. Armböndin eru með áletruninni „Lífið er núna“ og eru auðveld í samsetningu svo að allir geta tekið þátt\, börn sem fullorðnir. \nVið hvetjum Ísfirðinga og nærbyggð að taka þátt í þessu skemmtilega verkefni með okkur. Öll armböndin eru perluð í sjálfboðavinnu og því mikil hugsjón bakvið hvert armband. Allur ágóði af sölu armbandanna rennur til Krafts – stuðningsfélag fyrir ungt fólk sem greinst hefur með krabbamein og aðstandendur og er hægt að kaupa armböndin líka strax á staðnum. \nÞetta er skemmtileg stund fyrir alla fjölskylduna og tilvalið tækifæri að láta gott af sér leiða og að sjálfsögðu verður heitt á könnunni! \nKOMIÐ OG PERLIÐ AF KRAFTI ♥
URL:https://kraftur.org/vidburdur/perlad-af-krafti-isafirdi/
LOCATION:Grunnskólinn á Ísafirði\, Austurvegi 6\, Ísafjörður\, Ísafjörður\, 400\, Iceland
ATTACH;FMTTYPE=image/jpeg:https://kraftur.org/wp-content/uploads/2017/11/75A5923net-e1535551054176-2.jpg
END:VEVENT
END:VCALENDAR