BEGIN:VCALENDAR
VERSION:2.0
PRODID:-//Kraftur - ECPv6.15.15//NONSGML v1.0//EN
CALSCALE:GREGORIAN
METHOD:PUBLISH
X-ORIGINAL-URL:https://kraftur.org
X-WR-CALDESC:Viðburðir í Kraftur
REFRESH-INTERVAL;VALUE=DURATION:PT1H
X-Robots-Tag:noindex
X-PUBLISHED-TTL:PT1H
BEGIN:VTIMEZONE
TZID:UTC
BEGIN:STANDARD
TZOFFSETFROM:+0000
TZOFFSETTO:+0000
TZNAME:UTC
DTSTART:20170101T000000
END:STANDARD
END:VTIMEZONE
BEGIN:VEVENT
DTSTART;TZID=UTC:20180918T170000
DTEND;TZID=UTC:20180918T190000
DTSTAMP:20260425T105301
CREATED:20180830T234404Z
LAST-MODIFIED:20180830T234404Z
UID:1229222-1537290000-1537297200@kraftur.org
SUMMARY:Norðan-Kraftur - fræðslukvöld og spjall
DESCRIPTION:Norðan – Kraftur er stuðningshópur fyrir ungt fólk (45 ára og yngri) sem greinst hefur með krabbamein og aðstandendur. \nNorðan-Kraftur er samstarfsverkefni Krabbameinsfélags Akureyrar og nágrennis og Krafts\, stuðningsfélag fyrir ungt fólk með krabbamein og aðstandendur. \nNorðan-Kraftur mun hittast annan annan hvern þriðjudag\, annarsvegar kl 11:30 í hádegisspjall og hinsvegar kl 17:30 og þá mun vera streymi frá fræðslukvöldum Krafts í Reykjavík. \nHægt er að óska eftir inngöngu í hópinn hér.
URL:https://kraftur.org/vidburdur/nordan-kraftur-fraedslukvold-og-spjall/
LOCATION:Krabbameinsfélag Akureyrar\, Glerárgata 24\, Akureyri\, Akureyri\, 600\, Iceland
ATTACH;FMTTYPE=image/png:https://kraftur.org/wp-content/uploads/2018/08/NorðanKraftur.png
END:VEVENT
BEGIN:VEVENT
DTSTART;TZID=UTC:20180918T171500
DTEND;TZID=UTC:20180918T183000
DTSTAMP:20260425T105301
CREATED:20180911T174402Z
LAST-MODIFIED:20180911T174402Z
UID:1229459-1537290900-1537295400@kraftur.org
SUMMARY:Sjálfsefling í erfiðleikum - fyrirlestur
DESCRIPTION:Þriðjudaginn 18. september nk. verður haldinn fyrsti fyrirlesturinn í mánaðarlegri fyrirlestraröð Krafts – Ungt fólk og krabbamein.\n\n\n \n\n\nSjálfsefling í erfiðleikum\n\n\nSigrún Þóra Sveinsdóttir\, klínískur sálfræðingur með sérmenntun í sálfræði heilsueflingar\, fjallar um hvernig við getum eflt okkur sjálf með ýmsum ráðum í veikindum og erfiðleikum. \n\n\n \n\n\nSérstakur gestur verður Ragnheiður Guðmundsdóttir\, sem greindist með lífhimnukrabbamein en lét það ekki aftra sér frá því að ganga Jakobsveginn til endurhæfingar og mun hún fjalla um gönguna og hvaða áhrif hún hafði á sig til heilsueflingar.\n\n\n \n\n\nFyrirlesturinn hefst kl 17.15 og verður haldinn í húsakynnum Ráðgjafarþjónustu Krabbameinsfélags Íslands\, Skógarhlíð 8\, 1. hæð..\n\n\n \n\n\nFyrirlesturinn er öllum opinn og boðið verður upp á léttar veitingar.\n\n\n\nFyrirlestrinum verður streymt í beinni á netinu og mun einnig vera sýnt frá Krabbameinsfélaginu á Akureyri.
URL:https://kraftur.org/vidburdur/sjalfsefling-erfidleikum-fyrirlestur/
LOCATION:Kraftur  – Stuðningsfélag fyrir ungt fólk sem greinst hefur með krabbamein og aðstandendur\, Skógarhlíð 8\, Reykjavík\, Reykjavík\, 105\, Iceland
ATTACH;FMTTYPE=image/png:https://kraftur.org/wp-content/uploads/2018/09/sjalfsefling-i-erfidleikum_-web-1.png
END:VEVENT
BEGIN:VEVENT
DTSTART;TZID=UTC:20180828T173000
DTEND;TZID=UTC:20180828T183000
DTSTAMP:20260425T105301
CREATED:20180829T145934Z
LAST-MODIFIED:20180829T145934Z
UID:1229081-1535477400-1535481000@kraftur.org
SUMMARY:Æfing hjá FítonsKrafti
DESCRIPTION:FítonsKraftur er endurhæfing í formi hreyfingar og útivistar fyrir ungt fólk sem greinst hefur með krabbamein.\nÆfingar eru í Heilsuborg 2x í viku undir handleiðslu Atla Más Sveinssonar íþróttafræðings. Frekari upplýsingar og skráning má finna hér.
URL:https://kraftur.org/vidburdur/aefing-hja-fitonskrafti-6/
LOCATION:Heilsuborg\, Bíldshöfði 9\, Reykjavík\, 110\, Iceland
END:VEVENT
END:VCALENDAR