BEGIN:VCALENDAR
VERSION:2.0
PRODID:-//Kraftur - ECPv6.15.15//NONSGML v1.0//EN
CALSCALE:GREGORIAN
METHOD:PUBLISH
X-ORIGINAL-URL:https://kraftur.org
X-WR-CALDESC:Viðburðir í Kraftur
REFRESH-INTERVAL;VALUE=DURATION:PT1H
X-Robots-Tag:noindex
X-PUBLISHED-TTL:PT1H
BEGIN:VTIMEZONE
TZID:UTC
BEGIN:STANDARD
TZOFFSETFROM:+0000
TZOFFSETTO:+0000
TZNAME:UTC
DTSTART:20170101T000000
END:STANDARD
END:VTIMEZONE
BEGIN:VEVENT
DTSTART;TZID=UTC:20180927T170000
DTEND;TZID=UTC:20180927T180000
DTSTAMP:20260425T170618
CREATED:20180913T174304Z
LAST-MODIFIED:20180913T174304Z
UID:1229589-1538067600-1538071200@kraftur.org
SUMMARY:Sjálfsefling í erfiðleikum - Lokað námskeið
DESCRIPTION:Á námskeiðinu \,\,Sjálfsefling í erfiðleikum” verður farið í aðferðir sem efla getuna til að takast á við streituna sem getur fylgt erfiðleikunum við að greinast með krabbamein og að vera aðstandandi. Þær hafa sýnt árangur með rannsóknum í að draga úr streitu\, kvíða\, depurð og að viðhalda vellíðan. Aðferðir eins og þjálfun styrkleika\, núvitund\, samkennd og þakklæti. \nSigrún Þóra Sveinsdóttir klínískur sálfræðingur mun leiðbeina námskeiðið. Hún er með sérmenntun í sálfræði heilsueflingar og hefur unnið m.a. sem sálfræðingur lögreglunnar. Þar að auki hefur hún reynslu af því að greinast með brjóstakrabbamein. \nNámskeiðið byrjar fimmtudaginn\, 27. september kl. 17-18 og er 4 skipti (4. október\, 11. október og 18. október). \nNámskeiðið er haldið í Skógarhlíð 8 – húsi Krabbameinsfélagsins. \nATHUGIÐ: Þetta er lokað námskeið og er félagsmönnum Krafts að kosnaðarlausu en nauðsynlegt er að skrá sig á það hér.
URL:https://kraftur.org/vidburdur/sjalfsefling-erfidleikum-lokad-namskeid/
LOCATION:Kraftur  – Stuðningsfélag fyrir ungt fólk sem greinst hefur með krabbamein og aðstandendur\, Skógarhlíð 8\, Reykjavík\, Reykjavík\, 105\, Iceland
ATTACH;FMTTYPE=image/jpeg:https://kraftur.org/wp-content/uploads/2018/09/sjalfsefling-i-erfidleikum2-1.jpg
END:VEVENT
BEGIN:VEVENT
DTSTART;TZID=UTC:20180828T173000
DTEND;TZID=UTC:20180828T183000
DTSTAMP:20260425T170618
CREATED:20180829T145934Z
LAST-MODIFIED:20180829T145934Z
UID:1229081-1535477400-1535481000@kraftur.org
SUMMARY:Æfing hjá FítonsKrafti
DESCRIPTION:FítonsKraftur er endurhæfing í formi hreyfingar og útivistar fyrir ungt fólk sem greinst hefur með krabbamein.\nÆfingar eru í Heilsuborg 2x í viku undir handleiðslu Atla Más Sveinssonar íþróttafræðings. Frekari upplýsingar og skráning má finna hér.
URL:https://kraftur.org/vidburdur/aefing-hja-fitonskrafti-6/
LOCATION:Heilsuborg\, Bíldshöfði 9\, Reykjavík\, 110\, Iceland
END:VEVENT
BEGIN:VEVENT
DTSTART;TZID=UTC:20181004T180000
DTEND;TZID=UTC:20181004T220000
DTSTAMP:20260425T170618
CREATED:20180924T101125Z
LAST-MODIFIED:20180924T101125Z
UID:1229805-1538676000-1538690400@kraftur.org
SUMMARY:Perlað af Krafti á Laugarvatni og Styrktar Bingó!
DESCRIPTION:Kraftur leggur leið sína austur og perlar með Laugvetningum og nágrenni fimmtudaginn 4. október kl. 18.00 – 20:00 í matsalnum í Menntaskólanum að Laugarvatni. Einnig verður haldið styrktarbingó í samstarfi við Háskólann á Hólum frá kl. 20.00-22.00. \nMeð því að taka þátt í viðburðinum eru þið að hjálpa okkur að standa við bakið á ungu fólki sem greinst hefur með krabbamein og aðstandendum þess þar sem armböndin eru seld til styrkar félaginu. \nArmböndin sem um ræðir eru í litum Krafts\, appelsíngul og svört. Armböndin eru með áletruninni „Lífið er núna“ og eru auðveld í samsetningu svo að allir geta tekið þátt\, börn sem fullorðnir. \n\nVið hvetjum Laugvetninga og nærbyggð að taka þátt í þessu skemmtilega verkefni með okkur. Öll armböndin eru perluð í sjálfboðavinnu og því mikil hugsjón bakvið hvert armband. Allur ágóði af sölu armbandanna rennur til Krafts – stuðningsfélag fyrir ungt fólk sem greinst hefur með krabbamein og aðstandendur og er hægt að kaupa armböndin líka strax á staðnum. \nÞetta er skemmtileg stund fyrir alla fjölskylduna og tilvalið tækifæri að láta gott af sér leiða og að sjálfsögðu verður heitt á könnunni! \nKOMIÐ OG PERLIÐ AF KRAFTI 
URL:https://kraftur.org/vidburdur/perlad-af-krafti-laugarvatni/
LOCATION:Menntaskólinn að Laugarvatni\, Skólatún\, Laugarvatn\, Laugarvatn\, 840\, Iceland
ATTACH;FMTTYPE=image/jpeg:https://kraftur.org/wp-content/uploads/2017/11/75A5923net-e1535551054176-2.jpg
END:VEVENT
END:VCALENDAR