BEGIN:VCALENDAR
VERSION:2.0
PRODID:-//Kraftur - ECPv6.15.15//NONSGML v1.0//EN
CALSCALE:GREGORIAN
METHOD:PUBLISH
X-ORIGINAL-URL:https://kraftur.org
X-WR-CALDESC:Viðburðir í Kraftur
REFRESH-INTERVAL;VALUE=DURATION:PT1H
X-Robots-Tag:noindex
X-PUBLISHED-TTL:PT1H
BEGIN:VTIMEZONE
TZID:UTC
BEGIN:STANDARD
TZOFFSETFROM:+0000
TZOFFSETTO:+0000
TZNAME:UTC
DTSTART:20170101T000000
END:STANDARD
END:VTIMEZONE
BEGIN:VEVENT
DTSTART;TZID=UTC:20181006T120000
DTEND;TZID=UTC:20181006T140000
DTSTAMP:20260425T213154
CREATED:20180925T112550Z
LAST-MODIFIED:20180925T112550Z
UID:1229824-1538827200-1538834400@kraftur.org
SUMMARY:Klifurhúsið - FítonsKraftur
DESCRIPTION:Komdu og klifraðu af Krafti! \nLaugardaginn 6.október ætlar FítonsKraftur – endurhæfingarhópur fyrir ungt fólk sem greinst hefur með krabamein að fara  í Klifurhúsið. \nHisst verður í Klifurhúsinu Ármúla 23 í anddyrinu. Mismunandi klifurveggir og erfiðleikastig svo allir geta tekið þátt á sínum forsendum. Klifurhúsið mun útvega allan búnað\, skó\, línur og það sem til þarf að klifra af Krafti. \nÞessi viðburður er opinn öllum þeim sem vilja kynna sér starfsemi FítonsKrafts og vilja hreyfa sig í góðum félagsskap\, greindir sem og aðstandendur. \nFrekari upplýsingar gefur Atli þjálfari FítonsKrafts í síma: 663-2252 eða með því að senda póst á fitonskraftur@kraftur.org
URL:https://kraftur.org/vidburdur/klifurhusid-fitonskraftur/
LOCATION:Klifurhúsið\, Ármúli 23\, Reykjavík\, Reykjavík\, 104\, Iceland
ATTACH;FMTTYPE=image/jpeg:https://kraftur.org/wp-content/uploads/2018/09/klifurhusid_heimasida-2.jpg
END:VEVENT
END:VCALENDAR