BEGIN:VCALENDAR
VERSION:2.0
PRODID:-//Kraftur - ECPv6.15.15//NONSGML v1.0//EN
CALSCALE:GREGORIAN
METHOD:PUBLISH
X-WR-CALNAME:Kraftur
X-ORIGINAL-URL:https://kraftur.org
X-WR-CALDESC:Viðburðir í Kraftur
REFRESH-INTERVAL;VALUE=DURATION:PT1H
X-Robots-Tag:noindex
X-PUBLISHED-TTL:PT1H
BEGIN:VTIMEZONE
TZID:UTC
BEGIN:STANDARD
TZOFFSETFROM:+0000
TZOFFSETTO:+0000
TZNAME:UTC
DTSTART:20170101T000000
END:STANDARD
END:VTIMEZONE
BEGIN:VEVENT
DTSTART;TZID=UTC:20181015T143000
DTEND;TZID=UTC:20181015T173000
DTSTAMP:20260426T004056
CREATED:20181008T013040Z
LAST-MODIFIED:20181008T013040Z
UID:1230018-1539613800-1539624600@kraftur.org
SUMMARY:Perlað af Krafti með Alcoa
DESCRIPTION:Margir Austfirðingar þekkja til Action-verkefna Fjarðaáls sem hafa verið unnin í þágu fjölmargra félagasamtaka á Austurlandi. Í tilefni af Bleikum október 2018 verður ráðist í stærsta Action-verkefnið til þessa. Kraftur\, í samstarfi við Alcoa Fjarðarál\, Krabbameinsfélag Austfjarða og Krabbameinsfélag Austurlands\, leggur leið sína austur og perlar með starfsfólki Fjarðaáls og íbúum Austurlands mánudaginn 15. október kl. 14:30 – 17:30 í matsal Fjarðaáls. Fjarðaál mun styrkja þessi þrjú góðgerðarfélög í gegnum verkefnið og við vonum að íbúar Austurlands fjölmenni á viðburðinn og leggi sitt af mörkum með því að perla armbönd. \nMeð því að taka þátt í viðburðinum er stutt við bakið á ungu fólki sem greinst hefur með krabbamein og aðstandendum þeirra þar sem armböndin sem við perlum verða seld til styrktar Krafti. \nArmböndin sem við perlum eru í litum Krafts\, appelsíngul og svört\, og með áletruninni „Lífið er núna“. Auðvelt er að búa þau til svo að allir geta tekið þátt jafnt börn sem fullorðnir. \nVið hvetjum alla Austfirðinga að taka þátt í þessu skemmtilega og gefandi verkefni með okkur. Öll armböndin eru perluð í sjálfboðavinnu og því mikil hugsjón bakvið hvert armband. Ágóðinn af sölu armbandanna rennur til Krafts – stuðningsfélag fyrir ungt fólk sem greinst hefur með krabbamein og aðstandendur og er hægt verður að kaupa armböndin á staðnum. Þá verður bleika slaufan einnig til sölu í tilefni af Bleikum október. \nÞetta er skemmtileg stund fyrir alla fjölskylduna og tilvalið tækifæri að láta gott af sér leiða og að sjálfsögðu verður heitt á könnunni! \nKOMIÐ OG PERLIÐ AF KRAFTI ♥
URL:https://kraftur.org/vidburdur/perlad-af-krafti-med-alcoa/
LOCATION:Matsalur Alcoa Fjarðaáls\, Hrauni 1\, Reyðarfjörður\, Reyðarfjörður\, 730\, Iceland
ATTACH;FMTTYPE=image/jpeg:https://kraftur.org/wp-content/uploads/2017/11/75A5923net-e1535551054176-2.jpg
END:VEVENT
BEGIN:VEVENT
DTSTART;TZID=UTC:20180903T170000
DTEND;TZID=UTC:20180903T183000
DTSTAMP:20260426T004056
CREATED:20180830T161930Z
LAST-MODIFIED:20180830T161930Z
UID:1229152-1535994000-1535999400@kraftur.org
SUMMARY:StelpuKraftur - stuðningshópur
DESCRIPTION:Þegar maður er ungur og greinist með krabbamein skiptir svo miklu máli að vita hvert maður getur leitað og maður standi ekki einn í baráttunni. \nStelpuKraftur er stuðningshópur fyrir ungar konur á aldrinum 18 – 45 ára sem greinst hafa með krabbamein. Hópurinn hittist annan hvern mánudag kl. 17 í húskynnum Krafts\, Skógarhlíð 8. \nTveir hittingar í apríl  \n\n1.apríl – Aprílsúpan\nHeimalöguð súpa og spjall\, dagskrá kortlögð fram á sumar.\nMeldaðu þig á viðuburðinn hér.\n15. apríl  – Páskaeggjagerð \nHalldór páskaeggjagerðarmeistari ætlar að taka vel á móti okkur þar sem við fáum að gera okkar eigin páskaegg.\nMeldaðu þig á viðburðinn hér.\n\nUmsjón með hópnum hefur\, Elín Kristín Klar\, ráðgjafi\, og Hulda Hjálmarsdóttir\, starfsmaður og félagsmaður hjá Krafti. \nHér er hægt að óska eftir inngöngu í FB – hóp StelpuKrafts. 
URL:https://kraftur.org/vidburdur/stelpukraftur/
LOCATION:Kraftur  – Stuðningsfélag fyrir ungt fólk sem greinst hefur með krabbamein og aðstandendur\, Skógarhlíð 8\, Reykjavík\, Reykjavík\, 105\, Iceland
ATTACH;FMTTYPE=image/png:https://kraftur.org/wp-content/uploads/2018/08/StelpuKraftur2-2.png
END:VEVENT
END:VCALENDAR