BEGIN:VCALENDAR
VERSION:2.0
PRODID:-//Kraftur - ECPv6.15.15//NONSGML v1.0//EN
CALSCALE:GREGORIAN
METHOD:PUBLISH
X-ORIGINAL-URL:https://kraftur.org
X-WR-CALDESC:Viðburðir í Kraftur
REFRESH-INTERVAL;VALUE=DURATION:PT1H
X-Robots-Tag:noindex
X-PUBLISHED-TTL:PT1H
BEGIN:VTIMEZONE
TZID:UTC
BEGIN:STANDARD
TZOFFSETFROM:+0000
TZOFFSETTO:+0000
TZNAME:UTC
DTSTART:20170101T000000
END:STANDARD
END:VTIMEZONE
BEGIN:VEVENT
DTSTART;VALUE=DATE:20181026
DTEND;VALUE=DATE:20181029
DTSTAMP:20260425T201242
CREATED:20180913T182433Z
LAST-MODIFIED:20180913T182433Z
UID:1229597-1540512000-1540771199@kraftur.org
SUMMARY:Lífið er núna helgi - helgarævintýri 26.-28.okt.
DESCRIPTION:Ekki láta þessa helgi fram hjá þér fara – einungis pláss fyrir 20 manns – skráðu þig strax í dag en um er að ræða frábæra helgi sem kostar einungis 2500 krónur á mann með öllu.  \nLífið er núna helgin er endurnærandi og uppbyggjandi helgi fyrir félagsmenn Krafts í samstarfi við KVAN þar sem þú færð tækifæri á að læra það hvernig þú getur tekist á við breyttar aðstæður í lífi þínu og kynnast öðrum í svipuðum sporum.  \nSaman munum við: \n\nLæra hvernig við getum tekist á við breyttar aðstæður og nýta okkur styrkleika okkar til að byggja m.a. upp sjálfstraustið \nStunda útivist og skemmtilega hreyfingu \nStunda jóga \nFræðast um nánd í veikindum \nLæra hvernig við getum rætt við börn um veikindi \nLæra hvernig við getum átt jákvæð samskipti \nFá innsýn inn í það hvernig við getum nýtt okkur núvitund \nFá fræðslu um hvernig við getum náð markmiðum okkar\n\n\nÞetta verður dásamleg helgi í fallegu umhverfi við borgarmörkin þar sem við munum líka borða hollan og góðan mat\, vera með kvöldvökur og njóta þess að hafa gaman saman.  Helgin verður haldin í náttúruperlunni við Elliðavatn og gistum við tvær nætur á hótel Kríunesi \nAllt – matur\, fræðsla\, skemmtun og gisting innifalin í staðfestingargjaldinu\, 2500 krónum.  \nHægt er að skrá sig hér – þetta er tækifæri sem gefst ekki á hverjum degi – Lífið er núna!
URL:https://kraftur.org/vidburdur/lifid-er-nuna-helgaraevintyri-oktober/
LOCATION:Hótel Kríunes\, Kríunes\, Kopavogur\, Kopavogur\, 203\, Iceland
ATTACH;FMTTYPE=image/png:https://kraftur.org/wp-content/uploads/2018/09/Banners-oktober_lifid-er-nuna-helgi-Web-copy-2.png
END:VEVENT
END:VCALENDAR