BEGIN:VCALENDAR
VERSION:2.0
PRODID:-//Kraftur - ECPv6.15.15//NONSGML v1.0//EN
CALSCALE:GREGORIAN
METHOD:PUBLISH
X-WR-CALNAME:Kraftur
X-ORIGINAL-URL:https://kraftur.org
X-WR-CALDESC:Viðburðir í Kraftur
REFRESH-INTERVAL;VALUE=DURATION:PT1H
X-Robots-Tag:noindex
X-PUBLISHED-TTL:PT1H
BEGIN:VTIMEZONE
TZID:UTC
BEGIN:STANDARD
TZOFFSETFROM:+0000
TZOFFSETTO:+0000
TZNAME:UTC
DTSTART:20170101T000000
END:STANDARD
END:VTIMEZONE
BEGIN:VEVENT
DTSTART;VALUE=DATE:20181026
DTEND;VALUE=DATE:20181029
DTSTAMP:20260426T004101
CREATED:20180913T182433Z
LAST-MODIFIED:20180913T182433Z
UID:1229597-1540512000-1540771199@kraftur.org
SUMMARY:Lífið er núna helgi - helgarævintýri 26.-28.okt.
DESCRIPTION:Ekki láta þessa helgi fram hjá þér fara – einungis pláss fyrir 20 manns – skráðu þig strax í dag en um er að ræða frábæra helgi sem kostar einungis 2500 krónur á mann með öllu.  \nLífið er núna helgin er endurnærandi og uppbyggjandi helgi fyrir félagsmenn Krafts í samstarfi við KVAN þar sem þú færð tækifæri á að læra það hvernig þú getur tekist á við breyttar aðstæður í lífi þínu og kynnast öðrum í svipuðum sporum.  \nSaman munum við: \n\nLæra hvernig við getum tekist á við breyttar aðstæður og nýta okkur styrkleika okkar til að byggja m.a. upp sjálfstraustið \nStunda útivist og skemmtilega hreyfingu \nStunda jóga \nFræðast um nánd í veikindum \nLæra hvernig við getum rætt við börn um veikindi \nLæra hvernig við getum átt jákvæð samskipti \nFá innsýn inn í það hvernig við getum nýtt okkur núvitund \nFá fræðslu um hvernig við getum náð markmiðum okkar\n\n\nÞetta verður dásamleg helgi í fallegu umhverfi við borgarmörkin þar sem við munum líka borða hollan og góðan mat\, vera með kvöldvökur og njóta þess að hafa gaman saman.  Helgin verður haldin í náttúruperlunni við Elliðavatn og gistum við tvær nætur á hótel Kríunesi \nAllt – matur\, fræðsla\, skemmtun og gisting innifalin í staðfestingargjaldinu\, 2500 krónum.  \nHægt er að skrá sig hér – þetta er tækifæri sem gefst ekki á hverjum degi – Lífið er núna!
URL:https://kraftur.org/vidburdur/lifid-er-nuna-helgaraevintyri-oktober/
LOCATION:Hótel Kríunes\, Kríunes\, Kopavogur\, Kopavogur\, 203\, Iceland
ATTACH;FMTTYPE=image/png:https://kraftur.org/wp-content/uploads/2018/09/Banners-oktober_lifid-er-nuna-helgi-Web-copy-2.png
END:VEVENT
BEGIN:VEVENT
DTSTART;TZID=UTC:20181027T130000
DTEND;TZID=UTC:20181027T160000
DTSTAMP:20260426T004101
CREATED:20181012T163815Z
LAST-MODIFIED:20181012T163815Z
UID:1230118-1540645200-1540656000@kraftur.org
SUMMARY:Perlað af Krafti með Akranesi
DESCRIPTION:Kraftur leggur leið sína vestur og perlar með Akranesi og nágrenni laugardaginn 27.október kl. 13 – 16 í Brekkubæjarskóla. \nMeð því að taka þátt í viðburðinum eru þið að hjálpa okkur að standa við bakið á ungu fólki sem greinst hefur með krabbamein og aðstandendum þess þar sem armböndin eru seld til styrkar félaginu. \nArmböndin sem um ræðir eru í litum Krafts\, appelsíngul og svört. Armböndin eru með áletruninni „Lífið er núna“ og eru auðveld í samsetningu svo að allir geta tekið þátt\, börn sem fullorðnir. \nVið hvetjum Akranesbúa og nærbyggð að taka þátt í þessu skemmtilega verkefni með okkur. Öll armböndin eru perluð í sjálfboðavinnu og því mikil hugsjón bakvið hvert armband. Allur ágóði af sölu armbandanna rennur til Krafts – stuðningsfélag fyrir ungt fólk sem greinst hefur með krabbamein og aðstandendur og er hægt að kaupa armböndin líka strax á staðnum. \nÞetta er skemmtileg stund fyrir alla fjölskylduna og tilvalið tækifæri að láta gott af sér leiða og að sjálfsögðu verður heitt á könnunni! \nKOMIÐ OG PERLIÐ AF KRAFTI ♥
URL:https://kraftur.org/vidburdur/perlad-af-krafti-med-akranesi/
LOCATION:Brekkubæjarskóli\, Vesturgata 120\, Akranes\, 300\, 300\, Iceland
ATTACH;FMTTYPE=image/jpeg:https://kraftur.org/wp-content/uploads/2017/11/75A5923net-e1535551054176-2.jpg
END:VEVENT
BEGIN:VEVENT
DTSTART;TZID=UTC:20181027T210000
DTEND;TZID=UTC:20181027T230000
DTSTAMP:20260426T004101
CREATED:20181008T223852Z
LAST-MODIFIED:20181008T223852Z
UID:1230026-1540674000-1540681200@kraftur.org
SUMMARY:ABBA tónleikar - boðsmiðar
DESCRIPTION:Ykkur er boðið á ABBA – tónleika! \nDægurflugan\, skipuleggjendur tónleikanna\, býður Kraftsfélögum á ABBA veislu í Eldborg laugardaginn 27.október. \nABBA tónleikasýningin\, sem sló eftirminnilega í gegn árið 2014\, snýr nú loksins aftur. ABBA er ein vinsælasta hljómsveit allra tíma og hafa plötur sveitarinnar selst í yfir 370 milljónum eintaka. Það er einvalalið íslenskra söngvara og tónlistarmanna sem túlkar lög þessarar goðsagnakenndu sveitar. \nÞetta er því tilvalið tækifæri fyrir þá Kraftsfélaga sem misstu af sýningunni síðast\, að sjá og heyra þessi ódauðlegu lög í flutningi landsliðsins í poppi — og fyrir hina að endurupplifa ógleymanlega kvöldstund.\nKraftsfélögum er boði á tónleikana þeim að endurgjaldslausu. Eina sem þú þarft að gera er að skrá þig hér. \nFyrstur kemur fyrstur fær! \nNánar um sýninguna:\nSöngvarar:\nStefanía Svavars\nSelma Björns\nHelgi Björns\nRegína Ósk\nJóhanna Guðrún \nHljómsveit undir stjórn Jóns Ólafssonar: \nJón Ólafsson\, hljómborð\nHaraldur Sveinbjörnsson\, hljómborð\nÓlafur Hólm\, trommur/slagverk\nStefán Magnússon\, gítar\nVilli Guðjóns\, gítar/saxófónn\nFriðrik Sturluson\, bassi \nLýsing: Freyr Vilhjálmsson\nVídeóhönnun: Pálmi Jónsson\nHljóð: Hafþór „Tempó“ Karlsson\nBúningar: Alda B. Guðjónsdóttir \nSviðsetning: Selma Björnsdóttir
URL:https://kraftur.org/vidburdur/abba-tonleikar/
LOCATION:Harpa\, Austurbakka 2\, Reykjavík\, Reykjavík\, 101\, Iceland
ATTACH;FMTTYPE=image/jpeg:https://kraftur.org/wp-content/uploads/2018/10/43503979_2155788387996904_3090591164064071680_n-2.jpg
END:VEVENT
END:VCALENDAR