BEGIN:VCALENDAR
VERSION:2.0
PRODID:-//Kraftur - ECPv6.15.15//NONSGML v1.0//EN
CALSCALE:GREGORIAN
METHOD:PUBLISH
X-ORIGINAL-URL:https://kraftur.org
X-WR-CALDESC:Viðburðir í Kraftur
REFRESH-INTERVAL;VALUE=DURATION:PT1H
X-Robots-Tag:noindex
X-PUBLISHED-TTL:PT1H
BEGIN:VTIMEZONE
TZID:UTC
BEGIN:STANDARD
TZOFFSETFROM:+0000
TZOFFSETTO:+0000
TZNAME:UTC
DTSTART:20170101T000000
END:STANDARD
END:VTIMEZONE
BEGIN:VEVENT
DTSTART;TZID=UTC:20181104T083000
DTEND;TZID=UTC:20181104T180000
DTSTAMP:20260425T153823
CREATED:20181029T185648Z
LAST-MODIFIED:20181029T185648Z
UID:1230327-1541320200-1541354400@kraftur.org
SUMMARY:Jöklaganga með FítonsKrafti
DESCRIPTION:Komdu á vit ævintýranna með FítonsKrafti \nÍslenskir fjallaleiðsögumenn bjóða Kraftsfélögum í jöklagöngu upp á Sólheimajökul sunnudaginn 4.nóvember. Ferðin er félagsmönnum að kostnaðarlausu þar sem íslenskir fjallaleiðsögumenn gefa vinnuna sína 🙂\nAthugið að einungis eru laust pláss fyrir 12 manns í ferðina.  \nHisst verður kl. 8:30 í Krafti\, Skógarhlíð 8 og sameinast í bíla. Gangan er ekki erfið og ættu allir að geta tekið þátt í henni\, einnig verður boðið upp á ísklifur sem er valkvætt fyrir fólk hvort það vilji skella sér á ísvegginn 🙂\nKomið verður aftur í bæinn milli kl. 17 og 18. \nHér er hægt að skrá sig: https://goo.gl/forms/4Scx0RUhayG7ATlx1  \nHér er hægt að lesa meira um ferðina. 
URL:https://kraftur.org/vidburdur/joklaganga-med-fitonskrafti/
LOCATION:Sólheimajökull
ATTACH;FMTTYPE=image/jpeg:https://kraftur.org/wp-content/uploads/2018/10/File-12-07-15-22-00-57-2-scaled.jpeg
END:VEVENT
END:VCALENDAR