BEGIN:VCALENDAR
VERSION:2.0
PRODID:-//Kraftur - ECPv6.15.15//NONSGML v1.0//EN
CALSCALE:GREGORIAN
METHOD:PUBLISH
X-ORIGINAL-URL:https://kraftur.org
X-WR-CALDESC:Viðburðir í Kraftur
REFRESH-INTERVAL;VALUE=DURATION:PT1H
X-Robots-Tag:noindex
X-PUBLISHED-TTL:PT1H
BEGIN:VTIMEZONE
TZID:UTC
BEGIN:STANDARD
TZOFFSETFROM:+0000
TZOFFSETTO:+0000
TZNAME:UTC
DTSTART:20170101T000000
END:STANDARD
END:VTIMEZONE
BEGIN:VEVENT
DTSTART;TZID=UTC:20181111T130000
DTEND;TZID=UTC:20181111T170000
DTSTAMP:20260425T170741
CREATED:20181029T113003Z
LAST-MODIFIED:20181029T113003Z
UID:1230312-1541941200-1541955600@kraftur.org
SUMMARY:Perlað af krafti með Krafti
DESCRIPTION:Margir hafa beðið í ofvæni eftir svörtu armböndunum og eru þau LOKSINS komin. Verða þau perluð af Krafti á Hilton hótel Nordica sunnudaginn 11.nóvember frá kl. 13 – 17. \nEn tekið skal fram að Hilton gefur krafta sína með að veita félaginu húsnæði og aðstöðu fyrir perluviðburðina. \nMeð því að taka þátt í viðburðinum eru þið að hjálpa okkur að standa við bakið á ungu fólki sem greinst hefur með krabbamein og aðstandendum þar sem armböndin eru seld til styrkar félaginu. \nArmböndin verða í forsölu á staðnum en koma þau í takmörkuðu upplagi og eru í svörtum og metallitum. Armböndin eru með áletruninni „Lífið er núna“ og eru auðveld í samsetningu svo að allir geta tekið þátt\, börn sem fullorðnir. \nVið hvetjum alla til að mæta á Hótel Hilton og taka þátt þessu skemmtilega verkefni með okkur. Öll armböndin eru perluð í sjálfboðavinnu og því mikil hugsjón sem liggu bakvið hvert armband. \nAllur ágóði af sölu armbandanna rennur til Krafts – stuðningsfélag fyrir ungt fólk sem greinst hefur með krabbamein og aðstandendur. \nÞetta er skemmtileg stund fyrir alla fjölskylduna og tilvalið tækifæri að láta gott af sér leiða og að sjálfsögðu verður heitt á könnunni! \nKOMIÐ OG PERLIÐ AF KRAFTI ♥
URL:https://kraftur.org/vidburdur/perlad-af-krafti-med-krafti/
LOCATION:Hilton hótel Nordica\, Suðurlandsbraut 8\, Reykjavík\, Reykjavík\, 108\, Iceland
ATTACH;FMTTYPE=image/jpeg:https://kraftur.org/wp-content/uploads/2018/01/75A0285net-4.jpg
END:VEVENT
END:VCALENDAR