BEGIN:VCALENDAR
VERSION:2.0
PRODID:-//Kraftur - ECPv6.15.15//NONSGML v1.0//EN
CALSCALE:GREGORIAN
METHOD:PUBLISH
X-ORIGINAL-URL:https://kraftur.org
X-WR-CALDESC:Viðburðir í Kraftur
REFRESH-INTERVAL;VALUE=DURATION:PT1H
X-Robots-Tag:noindex
X-PUBLISHED-TTL:PT1H
BEGIN:VTIMEZONE
TZID:UTC
BEGIN:STANDARD
TZOFFSETFROM:+0000
TZOFFSETTO:+0000
TZNAME:UTC
DTSTART:20170101T000000
END:STANDARD
END:VTIMEZONE
BEGIN:VEVENT
DTSTART;TZID=UTC:20181116T180000
DTEND;TZID=UTC:20181116T200000
DTSTAMP:20260426T004630
CREATED:20181030T201402Z
LAST-MODIFIED:20181030T201402Z
UID:1230343-1542391200-1542398400@kraftur.org
SUMMARY:Norðan-Kraftur - minnisnámskeið
DESCRIPTION:Einbeiting og minni – minnisnámskeið fyrir NorðanKraft verður haldið föstudaginn 16.nóvember í húsnæði KAON. \nNámskeiðið  er ætlað þeim sem hafa áhyggjur af minni sínu í kjölfar veikinda en einnig þeim sem vilja fræðast um minnið og læra að nýta sér mismunandi minnistækni. Á námskeiðinu er veitt fræðsla um einbeitingu og minni. Farið er í hvaða þættir geta haft áhrif og hvað við getum gert til þess að bæta einbeitingu og minni. \nLeiðbeinandi er Þorri Snæbjörnsson sálfræðingur Krafts og Ráðgjafarþjónustunnar. \nDagskrá – nóvember\n16.nóvember kl. 18 – 20\nMinnisnámskeið. Þorri sálfræðingur Krafts kennir gagnlegar leiðir til að bæta minni. \n20.nóv 2018 kl. 17 – 18:30\nFræðslukvöld – Pálmar Ragnarsson – Jákvæð samskipti og hugarfar \n27.nóvember kl. 11:30\nHádegisspjall. Boðið verður upp á léttan hádegisverð. \nHægt er að óska eftir inngöngu í hópinn hér.
URL:https://kraftur.org/vidburdur/nordankraftur-minnisnamskeid/
LOCATION:Krabbameinsfélag Akureyrar\, Glerárgata 24\, Akureyri\, Akureyri\, 600\, Iceland
ATTACH;FMTTYPE=image/png:https://kraftur.org/wp-content/uploads/2018/08/NorðanKraftur.png
END:VEVENT
END:VCALENDAR