BEGIN:VCALENDAR
VERSION:2.0
PRODID:-//Kraftur - ECPv6.15.15//NONSGML v1.0//EN
CALSCALE:GREGORIAN
METHOD:PUBLISH
X-WR-CALNAME:Kraftur
X-ORIGINAL-URL:https://kraftur.org
X-WR-CALDESC:Viðburðir í Kraftur
REFRESH-INTERVAL;VALUE=DURATION:PT1H
X-Robots-Tag:noindex
X-PUBLISHED-TTL:PT1H
BEGIN:VTIMEZONE
TZID:UTC
BEGIN:STANDARD
TZOFFSETFROM:+0000
TZOFFSETTO:+0000
TZNAME:UTC
DTSTART:20170101T000000
END:STANDARD
END:VTIMEZONE
BEGIN:VEVENT
DTSTART;TZID=UTC:20180905T171500
DTEND;TZID=UTC:20180905T181500
DTSTAMP:20260425T182004
CREATED:20180829T142019Z
LAST-MODIFIED:20180829T142019Z
UID:1229012-1536167700-1536171300@kraftur.org
SUMMARY:FítonsYoga
DESCRIPTION:FítonsYoga eru blandaðir jógatímar bæði fyrir krabbameinsgreinda og aðstandendur. Annars vegar er lögð áhersla á að styrkja líkamann og hugann með jógaflæði. Hins vegar er lögð áhersla á teygjur\, slökun og hugleiðslu.\nÍ tímunum verður heimskpeki yoga kynnt fyrir þátttakendum.\nFítonsYoga hentar öllum\, stirðum og liðugum\, stelpum og strákum\, vönum og óvönum.\nJógatímarnir eru haldnir einu sinni í viku\, mið. kl. 17:15 – 18:15 í sal í Ráðgjafarþjónustu Krabbameinsfélagsins.  Tímarnir eru félagsmönnum að kostnaðarlausu. \nYogakennarinn\nElín Skúladóttir mun sjá um FítonsYoga en hún kynntist yoga fyrir rúmum áratug síðan þegar hún réð sig til starfa á lúxus skemmtiferðarskipi. Hún ætlaði sér að starfa sem þolfimileiðbeinandi en yoga var vinsælla á skipinu svo hún var send á yoga kennaranámskeið. Elín sigldi um höfin blá og kenndi yoga og hélt því áfram þegar hún kom í land. Hún hefur að mestu lokið meistaranámi í íþrótta- og heilsufræðum frá Háskóla Íslands.\nElín greindist sjálf með brjóstakrabbamein árið 2017. \nFlæðum saman inn í veturinn <3
URL:https://kraftur.org/vidburdur/fitonsyoga-3/
LOCATION:Kraftur  – Stuðningsfélag fyrir ungt fólk sem greinst hefur með krabbamein og aðstandendur\, Skógarhlíð 8\, Reykjavík\, Reykjavík\, 105\, Iceland
ATTACH;FMTTYPE=image/jpeg:https://kraftur.org/wp-content/uploads/2018/03/Fitonsjoga_585x300-1.jpg
END:VEVENT
BEGIN:VEVENT
DTSTART;TZID=UTC:20181121T193000
DTEND;TZID=UTC:20181121T220000
DTSTAMP:20260425T182004
CREATED:20181030T222308Z
LAST-MODIFIED:20181030T222308Z
UID:1230363-1542828600-1542837600@kraftur.org
SUMMARY:Improv Ísland - Ungliðar
DESCRIPTION:Við ætlum að skella okkur á spunasýningu Improv Ísland\, miðvikudaginn\, 21.nóvember kl. 20:00.\nÁ síðasta leikári var fullt á nær allar spunasýningar Improv Ísland í Þjóðleikhúskjallaranum og stór hluti áhorfenda kom aftur og aftur enda eru engar tvær sýningar eins og engum leiðist að hlæja! \nHópurinn býður upp á fjölbreyttar og ófyrirsjáanlegar grín-spunasýningar í Þjóðleikhúskjallaranum á hverju miðvikudagskvöldi. Improv Ísland sýnir ólík spunaform og fær til sín ýmsa þjóðþekkta gesti. Í leikhópnum eru rúmlega 20 spunaleikarar sem skiptast á að sýna í hverri viku. \nDóra Jóhannsdóttir er listrænn stjórnandi Improv Ísland og Karl Olgeirsson er tónlistarstjóri hópsins. \nSýningin er ungliðum að kostnaðarlausu 🙂 \nHér er hægt að óska eftir inngöngu í FB hópinn. 
URL:https://kraftur.org/vidburdur/improv-island-unglidar/
LOCATION:Þjóðleikhúskjallarinn\, Hverfisgata 19\, Reykjavík\, 101\, 101\, Iceland
ATTACH;FMTTYPE=image/png:https://kraftur.org/wp-content/uploads/2018/10/Banners_improv-unglidar2-1.png
END:VEVENT
END:VCALENDAR