BEGIN:VCALENDAR
VERSION:2.0
PRODID:-//Kraftur - ECPv6.15.15//NONSGML v1.0//EN
CALSCALE:GREGORIAN
METHOD:PUBLISH
X-WR-CALNAME:Kraftur
X-ORIGINAL-URL:https://kraftur.org
X-WR-CALDESC:Viðburðir í Kraftur
REFRESH-INTERVAL;VALUE=DURATION:PT1H
X-Robots-Tag:noindex
X-PUBLISHED-TTL:PT1H
BEGIN:VTIMEZONE
TZID:UTC
BEGIN:STANDARD
TZOFFSETFROM:+0000
TZOFFSETTO:+0000
TZNAME:UTC
DTSTART:20180101T000000
END:STANDARD
END:VTIMEZONE
BEGIN:VEVENT
DTSTART;TZID=UTC:20190121T171500
DTEND;TZID=UTC:20190121T183000
DTSTAMP:20260425T103238
CREATED:20190108T005539Z
LAST-MODIFIED:20190108T005539Z
UID:1233945-1548090900-1548095400@kraftur.org
SUMMARY:FítonsYoga - byrjendanámskeið
DESCRIPTION:Hefur þig langað að prófa jóga en aldrei þorað? Hefur þú reynt að stunda jóga en það hefur aldrei orðið að venju? Eða ertu nú þegar ástfangin/nn af jóga og vilt nýta hvert tækifæri til að stunda það í góðum hópi fólks? Þá er þetta námskeið eitthvað fyrir þig! \nByrjendanámskeið í FítonsYoga er hugsað til að koma þér af stað í jóga á nýju ári\, og búa til nýjar venjur. Námskeiðið er hugsað bæði fyrir byrjendur og lengra komna\, þar sem allir ættu að finna eitthvað við sitt hæfi. Markmið námskeiðsins er að auka styrk og liðleika\, auk þess að læra hugleiðslu og öndunaræfingar. Þó verður mest lagt upp úr því að búa til stund fyrir sjálfa/n þig og að ná góðri slökun í lokin. \nNámskeiðið er hugsað fyrir félagsmenn\, krabbameinsgreinda og aðstandendur. Eina sem þú þarft ert þú sjálf/ur og föt sem þægilegt er að hreyfa sig í. Dýnur verða á staðnum\, en þú mátt að sjálfsögðu mæta með þína eigin. Námskeiðið er félagsmönnum okkar að kostnaðarlausu.  \nPála Margrét kennir námskeiðið\, en hún hefur lokið 500 klst. jógakennaranámi í Tælandi. Hún hefur sjálf reynslu af því að komast í gegnum vefjagigt með jóga\, og hefur sú reynsla haft áhrif á það hvernig hún kennir jóga. \nSkráðu þig hér!\n\nFrekari upplýsingar veitir Pála Margrét: palamargret@hamingjujoga.is
URL:https://kraftur.org/vidburdur/fitonsyoga-byrjendanamskeid/
LOCATION:Kraftur  – Stuðningsfélag fyrir ungt fólk sem greinst hefur með krabbamein og aðstandendur\, Skógarhlíð 8\, Reykjavík\, Reykjavík\, 105\, Iceland
ATTACH;FMTTYPE=image/jpeg:https://kraftur.org/wp-content/uploads/2019/01/banner_jan_FitonsYoga_byrjendanamskeid-2-scaled.jpg
END:VEVENT
BEGIN:VEVENT
DTSTART;TZID=UTC:20190114T200000
DTEND;TZID=UTC:20190114T220000
DTSTAMP:20260425T103238
CREATED:20190109T020907Z
LAST-MODIFIED:20190109T020907Z
UID:1234075-1547496000-1547503200@kraftur.org
SUMMARY:StrákaKraftur í pool
DESCRIPTION:Þegar maður er ungur og greinist með krabbamein skiptir svo miklu máli að vita hvert maður getur leitað og maður standi ekki einn í baráttunni. \nStrákaKraftur er stuðningshópur fyrir unga menn á aldrinum 18 – 45 ára sem greinst hafa með krabbamein. Hópurinn hittist annan hvern mánudag kl. 20 í húskynnum Krafts eða á öðrum fyrirframákveðnum stöðum. \nMánudaginn 14.janúar og 28.janúar ætlar hópurinn að hittast á Poolstofunni Lágmúla. Poolstofan gefur Krafti frían aðgang að borðum svo þetta er félagsmönnum að kostnaðarlausu.  \nUmsjónarmaður StrákaKrafts er Þorri Snæbjörnsson\, sálfræðingur Krafts. Hægt er að óska eftir inngöngu hér.
URL:https://kraftur.org/vidburdur/strakakraftur-i-pool/
LOCATION:Poolstofan\, Lágmúli 5\, Reykjavík\, Reykjavík\, 104\, Iceland
ATTACH;FMTTYPE=image/png:https://kraftur.org/wp-content/uploads/2018/08/StrákaKraftur2-2.png
END:VEVENT
END:VCALENDAR