BEGIN:VCALENDAR
VERSION:2.0
PRODID:-//Kraftur - ECPv6.15.15//NONSGML v1.0//EN
CALSCALE:GREGORIAN
METHOD:PUBLISH
X-ORIGINAL-URL:https://kraftur.org
X-WR-CALDESC:Viðburðir í Kraftur
REFRESH-INTERVAL;VALUE=DURATION:PT1H
X-Robots-Tag:noindex
X-PUBLISHED-TTL:PT1H
BEGIN:VTIMEZONE
TZID:UTC
BEGIN:STANDARD
TZOFFSETFROM:+0000
TZOFFSETTO:+0000
TZNAME:UTC
DTSTART:20170101T000000
END:STANDARD
END:VTIMEZONE
BEGIN:VEVENT
DTSTART;TZID=UTC:20180903T170000
DTEND;TZID=UTC:20180903T183000
DTSTAMP:20260423T062646
CREATED:20180830T161930Z
LAST-MODIFIED:20180830T161930Z
UID:1229152-1535994000-1535999400@kraftur.org
SUMMARY:StelpuKraftur - stuðningshópur
DESCRIPTION:Þegar maður er ungur og greinist með krabbamein skiptir svo miklu máli að vita hvert maður getur leitað og maður standi ekki einn í baráttunni. \nStelpuKraftur er stuðningshópur fyrir ungar konur á aldrinum 18 – 45 ára sem greinst hafa með krabbamein. Hópurinn hittist annan hvern mánudag kl. 17 í húskynnum Krafts\, Skógarhlíð 8. \nTveir hittingar í apríl  \n\n1.apríl – Aprílsúpan\nHeimalöguð súpa og spjall\, dagskrá kortlögð fram á sumar.\nMeldaðu þig á viðuburðinn hér.\n15. apríl  – Páskaeggjagerð \nHalldór páskaeggjagerðarmeistari ætlar að taka vel á móti okkur þar sem við fáum að gera okkar eigin páskaegg.\nMeldaðu þig á viðburðinn hér.\n\nUmsjón með hópnum hefur\, Elín Kristín Klar\, ráðgjafi\, og Hulda Hjálmarsdóttir\, starfsmaður og félagsmaður hjá Krafti. \nHér er hægt að óska eftir inngöngu í FB – hóp StelpuKrafts. 
URL:https://kraftur.org/vidburdur/stelpukraftur/
LOCATION:Kraftur  – Stuðningsfélag fyrir ungt fólk sem greinst hefur með krabbamein og aðstandendur\, Skógarhlíð 8\, Reykjavík\, Reykjavík\, 105\, Iceland
ATTACH;FMTTYPE=image/png:https://kraftur.org/wp-content/uploads/2018/08/StelpuKraftur2-2.png
END:VEVENT
BEGIN:VEVENT
DTSTART;TZID=UTC:20190304T171500
DTEND;TZID=UTC:20190304T183000
DTSTAMP:20260423T062646
CREATED:20190219T164539Z
LAST-MODIFIED:20190219T164539Z
UID:1235302-1551719700-1551724200@kraftur.org
SUMMARY:FítonsYoga - nýtt byrjendanámskeið
DESCRIPTION:Hefur þig langað að prófa jóga en aldrei þorað? Hefur þú reynt að stunda jóga en það hefur aldrei orðið að venju? Eða ertu nú þegar ástfangin/nn af jóga og vilt nýta hvert tækifæri til að stunda það í góðum hópi fólks? Þá er þetta námskeið eitthvað fyrir þig! \nNýtt byrjendanámskeið að hefjast í FítonsYoga þann 4.mars – 3.apríl. \nNámskeiðið er hugsað bæði fyrir byrjendur og lengra komna\, þar sem allir ættu að finna eitthvað við sitt hæfi. Markmið námskeiðsins er að auka styrk og liðleika\, auk þess að læra hugleiðslu og öndunaræfingar. Þó verður mest lagt upp úr því að búa til stund fyrir sjálfa/n þig og að ná góðri slökun í lokin. \nNámskeiðið er hugsað fyrir félagsmenn\, krabbameinsgreinda og aðstandendur. Eina sem þú þarft ert þú sjálf/ur og föt sem þægilegt er að hreyfa sig í. Dýnur verða á staðnum\, en þú mátt að sjálfsögðu mæta með þína eigin. Námskeiðið er félagsmönnum okkar að kostnaðarlausu.  \nPála Margrét kennir námskeiðið\, en hún hefur lokið 500 klst. jógakennaranámi í Tælandi. Hún hefur sjálf reynslu af því að komast í gegnum vefjagigt með jóga\, og hefur sú reynsla haft áhrif á það hvernig hún kennir jóga. \nSkráðu þig hér!\n\nFrekari upplýsingar veitir Pála Margrét: palamargret@hamingjujoga.is
URL:https://kraftur.org/vidburdur/fitonsyoga-nytt-byrjendanamskeid/
LOCATION:Kraftur  – Stuðningsfélag fyrir ungt fólk sem greinst hefur með krabbamein og aðstandendur\, Skógarhlíð 8\, Reykjavík\, Reykjavík\, 105\, Iceland
ATTACH;FMTTYPE=image/jpeg:https://kraftur.org/wp-content/uploads/2019/01/banner_jan_FitonsYoga_byrjendanamskeid-2-scaled.jpg
END:VEVENT
BEGIN:VEVENT
DTSTART;TZID=UTC:20190401T200000
DTEND;TZID=UTC:20190401T220000
DTSTAMP:20260423T062646
CREATED:20190329T131757Z
LAST-MODIFIED:20190329T131757Z
UID:1236050-1554148800-1554156000@kraftur.org
SUMMARY:StrákaKraftur - Pool
DESCRIPTION:Þegar maður er ungur og greinist með krabbamein skiptir svo miklu máli að vita hvert maður getur leitað og maður standi ekki einn í baráttunni. \nStrákaKraftur er stuðningshópur fyrir unga menn á aldrinum 18 – 45 ára sem greinst hafa með krabbamein. Hópurinn hittist annan hvern þriðjudag kl. 20 í húsakynnum Krafts eða á öðrum fyrirfram ákveðnum snilldar stöðum. \nTveir hittingar í apríl  \n\n1.apríl (mánudagur)– Hittumst á Poolstofunni kl. 20 og tökum nokkra leiki. Þú mátt melda þig á viðburðinn hér.\n16. apríl (þriðjudagur) – Skotfimi – auglýst betur inn á Facebooksíðu StrákaKrafts\n29.apríl (mánudagur) – Auglýst síðar\n\nUmsjónarmenn StrákaKrafts er Þorri Snæbjörnsson\, sálfræðingur Krafts og Birkir Már Birgisson\, félagsmaður. Hægt er að óska eftir inngöngu hér. 
URL:https://kraftur.org/vidburdur/strakakraftur-pool/
LOCATION:Poolstofan\, Lágmúli 5\, Reykjavík\, Reykjavík\, 104\, Iceland
ATTACH;FMTTYPE=image/png:https://kraftur.org/wp-content/uploads/2018/08/StrákaKraftur2-2.png
END:VEVENT
END:VCALENDAR