BEGIN:VCALENDAR
VERSION:2.0
PRODID:-//Kraftur - ECPv6.15.15//NONSGML v1.0//EN
CALSCALE:GREGORIAN
METHOD:PUBLISH
X-ORIGINAL-URL:https://kraftur.org
X-WR-CALDESC:Viðburðir í Kraftur
REFRESH-INTERVAL;VALUE=DURATION:PT1H
X-Robots-Tag:noindex
X-PUBLISHED-TTL:PT1H
BEGIN:VTIMEZONE
TZID:UTC
BEGIN:STANDARD
TZOFFSETFROM:+0000
TZOFFSETTO:+0000
TZNAME:UTC
DTSTART:20180101T000000
END:STANDARD
END:VTIMEZONE
BEGIN:VEVENT
DTSTART;TZID=UTC:20190406T113000
DTEND;TZID=UTC:20190406T150000
DTSTAMP:20260423T062417
CREATED:20190206T153623Z
LAST-MODIFIED:20190206T153623Z
UID:1234964-1554550200-1554562800@kraftur.org
SUMMARY:AFLÝST - Skíðaganga - FítonsKraftur
DESCRIPTION:Laugardaginn\, 6. apríl\, ætlar FítonsKraftur að skella sér á gönguskíði upp í Bláfjöllum þar sem Auður Kristín Ebenezardóttir gönguskíðakennari ætlar að kenna okkur grunnatriði í skíðagöngu og kenna okkur taktana á gönguskíðum. Við fáum skíði og skó lánuð svo það eina sem þið þurfið að taka með eru hlý og góð föt og nesti.  Allir eiga að geta tekið þátt og tekið viðmið að getu  og þörfum hvers og eins. \nTakmarkað pláss er í ferðina svo við biðjum ykkur um að skrá ykkur hér.  \nVið ætlum að hittast á Olís í Norðlingaholti kl. 11:30 til að sameinast í bíla og en gönguskíðagleðin hefst kl. 12:30 í Bláfjöllum \nFrekari upplýsingar veitir Atli þjálfari FítonsKrafts í síma: 663-2252 eða fitonskraftur@kraftur.org. 
URL:https://kraftur.org/vidburdur/skidaganga-fitonskraftur/
LOCATION:Bláfjöll\, Bláfjöll\, Iceland
ATTACH;FMTTYPE=image/jpeg:https://kraftur.org/wp-content/uploads/2019/02/banner_jan_fitonskraftur_skidaganga-2-scaled.jpg
END:VEVENT
END:VCALENDAR