BEGIN:VCALENDAR
VERSION:2.0
PRODID:-//Kraftur - ECPv6.15.15//NONSGML v1.0//EN
CALSCALE:GREGORIAN
METHOD:PUBLISH
X-WR-CALNAME:Kraftur
X-ORIGINAL-URL:https://kraftur.org
X-WR-CALDESC:Viðburðir í Kraftur
REFRESH-INTERVAL;VALUE=DURATION:PT1H
X-Robots-Tag:noindex
X-PUBLISHED-TTL:PT1H
BEGIN:VTIMEZONE
TZID:UTC
BEGIN:STANDARD
TZOFFSETFROM:+0000
TZOFFSETTO:+0000
TZNAME:UTC
DTSTART:20180101T000000
END:STANDARD
END:VTIMEZONE
BEGIN:VEVENT
DTSTART;TZID=UTC:20190424T173000
DTEND;TZID=UTC:20190424T190000
DTSTAMP:20260423T062034
CREATED:20190401T174143Z
LAST-MODIFIED:20190401T174143Z
UID:1236153-1556127000-1556132400@kraftur.org
SUMMARY:Að klífa brattann - Úlfarsfell
DESCRIPTION:Fyrsta ganga gönguhópsins Að klífa brattann verður miðvikudaginn\, 24. apríl. \nVið ætlum að skella okkur á Úlfarsfell sem er 296 metrar. Gangan hefst hjá bílastæðunum við Skógræktarsvæðið í vesturhlíðum Úlfarsfells. Þaðan er um 160 metra hækkun og er gönguleiðin á erfiðleikastigi 1. Frábær ganga til að byrja á og hlökkum við til að sjá sem flesta. \nAð klífa brattann er gönguhópur sem Kraftskonurnar Ragnheiður Guðmundsdóttir og G.sigríður Ágústsdóttir leiða en þær hafa báðar notað útivist og fjallgöngur sér til endurhæfingar og sjálfseflingar í veikindum sínum. Göngurnar henta öllum þeim sem hafa áhuga á að kynna sér göngur og íslenska náttúru og njóta þess að vera í hópi meðal jafningja. \nKraftsfélagar\, fjölskyldur þeirra\, börn og vinir eru hjartanlega velkomin.\nLáttu okkur vita hvort þú ætlir að mæta og meldaðu þig hér. \nRagnheiður (sími: 663-9360) og Sirrý (sími: 660-4407) \nÞú getur fylgst með okkur á Facebook og beðið um inngöngu í hópinn. \n 
URL:https://kraftur.org/vidburdur/ad-klifa-brattann-ulfarsfell/
LOCATION:Úlfarsfell\, Bílastæðin við skógræktarsvæðið í vesturhlíðum Úlfarsfells
ATTACH;FMTTYPE=image/png:https://kraftur.org/wp-content/uploads/2019/04/banner_april_klifa_btrattann-copy-2.png
END:VEVENT
END:VCALENDAR