BEGIN:VCALENDAR
VERSION:2.0
PRODID:-//Kraftur - ECPv6.15.15//NONSGML v1.0//EN
CALSCALE:GREGORIAN
METHOD:PUBLISH
X-ORIGINAL-URL:https://kraftur.org
X-WR-CALDESC:Viðburðir í Kraftur
REFRESH-INTERVAL;VALUE=DURATION:PT1H
X-Robots-Tag:noindex
X-PUBLISHED-TTL:PT1H
BEGIN:VTIMEZONE
TZID:UTC
BEGIN:STANDARD
TZOFFSETFROM:+0000
TZOFFSETTO:+0000
TZNAME:UTC
DTSTART:20180101T000000
END:STANDARD
END:VTIMEZONE
BEGIN:VEVENT
DTSTART;TZID=UTC:20190504T120000
DTEND;TZID=UTC:20190504T133000
DTSTAMP:20260423T044921
CREATED:20190401T164611Z
LAST-MODIFIED:20190401T164611Z
UID:1236135-1556971200-1556976600@kraftur.org
SUMMARY:Primal Iceland - FítonsKraftur
DESCRIPTION:Við elskum að fara út fyrir þægindarammann og prófa nýja hluti! \nÍ byrjun maí ætlar FítonsKraftur að kíkja í heimsókn til strákana í Primal Iceland. En Primal Iceland er ný æfingastöð í Reykjavík sem þekkt er fyrir öðruvísi nálgun á líkamsrækt en gengur og gerist. Stofnendur Primal Iceland eru þeir Þór Guðnason\, Einar Carl Axelsson og Helgi Freyr Rúnarsson. \nStrákarnir ætla að kenna okkur léttar teygjur og hreyfileika til að losa um spennu í líkamanum. Einnig ætla þeir að kenna önduræfingar til að slaka á taugakerfinu að hætti Wim Hof. \nÞessi viðburður er öllum félagsmönnum Krafts opinn og þarftu ekki að vera meðlimur í FítonsKrafti til að taka þátt 🙂 \nVinsamlegast skráðu þig hér! 
URL:https://kraftur.org/vidburdur/primal-iceland-fitonskraftur/
LOCATION:Primal Iceland\, Faxafen 12\, Reykjavík\, Reykjavík\, 108\, Iceland
ATTACH;FMTTYPE=image/png:https://kraftur.org/wp-content/uploads/2019/04/banner_april_primal_iceland-2.png
END:VEVENT
END:VCALENDAR