BEGIN:VCALENDAR
VERSION:2.0
PRODID:-//Kraftur - ECPv6.15.15//NONSGML v1.0//EN
CALSCALE:GREGORIAN
METHOD:PUBLISH
X-ORIGINAL-URL:https://kraftur.org
X-WR-CALDESC:Viðburðir í Kraftur
REFRESH-INTERVAL;VALUE=DURATION:PT1H
X-Robots-Tag:noindex
X-PUBLISHED-TTL:PT1H
BEGIN:VTIMEZONE
TZID:UTC
BEGIN:STANDARD
TZOFFSETFROM:+0000
TZOFFSETTO:+0000
TZNAME:UTC
DTSTART:20180101T000000
END:STANDARD
END:VTIMEZONE
BEGIN:VEVENT
DTSTART;TZID=UTC:20190507T113000
DTEND;TZID=UTC:20190507T130000
DTSTAMP:20260423T044813
CREATED:20190506T215746Z
LAST-MODIFIED:20190506T215746Z
UID:1237174-1557228600-1557234000@kraftur.org
SUMMARY:NorðanKraftur - hádegisspjall
DESCRIPTION:Norðan – Kraftur er stuðningshópur fyrir ungt fólk (45 ára og yngri) sem greinst hefur með krabbamein og aðstandendur. \nHópurinn er samstarfsverkefni Krafts og Krabbameinsfélags Akureyrar og nágrennis. Hópurinn er starfræktur frá Akureyri. \nNorðan-Kraftur hittist annan annan hvern þriðjudag\, annarsvegar kl 11:30 í hádegisspjall og hinsvegar kl 17:30 og þá er streymi frá fræðslukvöldum Krafts í Reykjavík og spjall eftir á. \nDagskrá – maí \n7.maí kl. 11:30 – 13:00\nHádegisspjall. Boðið verður upp á léttan hádegisverð. \n14.maí kl. 12:00 – 13:00\nKrabbamein á barnamáli – fræðsla\nKatrín Ösp Jónsdóttir\, hjúkrunarfræðingur\, ætlar að fjalla um krabbamein á barnamáli og hvernig hún talar við börn sem eru aðstandendur krabbameinsgreindra.\nElín Berglind Skúladóttir segir frá bókinni Líkami minn er veikur en dóttir Elínar\, Arndís\, greindist með bráðahvítblæði fjögurra ára gömul. Bókin hefur það hlutverk að auðvelda börnum með krabbamein að skilja veruleika sinn.\nHádegisfyrirlesturinn er öllum opinn og hefst kl 12:00 og líkur kl 13:00\nBoðið verður upp á nýbakað og ilmbandi brauð frá Bakaríinu við Brúna. \n21.maí kl. 17:00 – 18:30\nStreymt frá fræðslufyrirlestri Krafts – Hreyfing gefur aukin Kraft\nHaukur Guðmundsson\, sjúkraþjálfari og íþrótta- og heilsufræðingur (M.Sc\, Clinical Cancer Specialist)\, mun fara yfir gildi hreyfingar fyrir krabbameinsgreinda. Tvær félagskonur Krafts munu einnig fjalla um hvernig útivera og göngur hafa hjálpað þeim til endurhæfingar meðan og eftir veikindin. En þetta eru þær Guðrún Sigríður Ágústsdóttir\, sem gekk í grunnbúðir Everest\, og Ragnheiður Guðmundsdóttir\, sem gekk Jakobsveginn\, síðastliðið sumar. Þær eru að fara byrja með gönguhóp fyrir krabbameinsgreinda og aðstandendur – Að klífa brattann – sem verður með reglulegar göngur í vor og sumar. \nHægt er að óska eftir inngöngu í hópinn hér.
URL:https://kraftur.org/vidburdur/nordankraftur-hadegisspjall-2/
LOCATION:Krabbameinsfélag Akureyrar\, Glerárgata 24\, Akureyri\, Akureyri\, 600\, Iceland
ATTACH;FMTTYPE=image/png:https://kraftur.org/wp-content/uploads/2018/08/NorðanKraftur.png
END:VEVENT
BEGIN:VEVENT
DTSTART;TZID=UTC:20190507T170000
DTEND;TZID=UTC:20190507T190000
DTSTAMP:20260423T044813
CREATED:20190506T141914Z
LAST-MODIFIED:20190506T141914Z
UID:1237167-1557248400-1557255600@kraftur.org
SUMMARY:Fræðslukvöld stuðningsfulltrúa - Þú skiptir máli
DESCRIPTION:Athuga! Þessi viðburður er eingöngu fyrir stuðningsfulltrú í Stuðningsneti Krafts. \nNæsta fræðslukvöld fyrir stuðningsfulltrúa verður haldið þriðjudaginn 7. maí frá klukkan 17:00 – 19:00. \nVið fáum fræðslu frá Jóni Halldórssyni\, framkvæmdarstjóra KVAN\, sem ætlar að fjalla um mikilvægi þess að við vinnum öll saman sem hópur að því að veita sem bestan stuðning fyrir þá sem leita til stuðningsnetsins. Jón Halldórsson er menntaður íþróttakennari\, lögreglumaður og er vottaður ACC markþjálfi. Hann hefur í fjölda ára starfað við að þjálfa einstaklinga\, stjórnendur og starfsmenn fyrirtækja ásamt því að hafa unnið mikið með afreksíþróttafólki. \nAð lokinni fræðslu verðum við með hóphandleiðslu á þau mál sem þið hafið verið að taka að ykkur. Það er líka mjög gagnlegt fyrir ykkur sem ekki eruð með mál að koma og hlusta á hvað hinir eru að takast á við. \nHóphandleiðlsan er skylda fyrir stuðningsfulltrúa og mikilvægur hluti af stuðningsnetinu því mikilvægt að sem flestir mæti.
URL:https://kraftur.org/vidburdur/fraedslukvold-studningsfulltrua-thu-skiptir-mali/
LOCATION:Kraftur  – Stuðningsfélag fyrir ungt fólk sem greinst hefur með krabbamein og aðstandendur\, Skógarhlíð 8\, Reykjavík\, Reykjavík\, 105\, Iceland
ATTACH;FMTTYPE=image/jpeg:https://kraftur.org/wp-content/uploads/2019/05/banner_mai_thu_skiptir_mali-1-scaled.jpg
END:VEVENT
BEGIN:VEVENT
DTSTART;TZID=UTC:20190103T173000
DTEND;TZID=UTC:20190103T183000
DTSTAMP:20260423T044813
CREATED:20190105T225256Z
LAST-MODIFIED:20190105T225256Z
UID:1233761-1546536600-1546540200@kraftur.org
SUMMARY:Æfing hjá FítonsKrafti
DESCRIPTION:FítonsKraftur er endurhæfing í formi hreyfingar og útivistar fyrir ungt fólk sem greinst hefur með krabbamein.\nÆfingar eru í Heilsuborg 2x í viku undir handleiðslu Atla Más Sveinssonar íþróttafræðings. Frekari upplýsingar og skráning má finna hér.
URL:https://kraftur.org/vidburdur/aefing-hja-fitonskrafti-7/
LOCATION:Heilsuborg\, Bíldshöfði 9\, Reykjavík\, 110\, Iceland
END:VEVENT
END:VCALENDAR