BEGIN:VCALENDAR
VERSION:2.0
PRODID:-//Kraftur - ECPv6.15.15//NONSGML v1.0//EN
CALSCALE:GREGORIAN
METHOD:PUBLISH
X-ORIGINAL-URL:https://kraftur.org
X-WR-CALDESC:Viðburðir í Kraftur
REFRESH-INTERVAL;VALUE=DURATION:PT1H
X-Robots-Tag:noindex
X-PUBLISHED-TTL:PT1H
BEGIN:VTIMEZONE
TZID:UTC
BEGIN:STANDARD
TZOFFSETFROM:+0000
TZOFFSETTO:+0000
TZNAME:UTC
DTSTART:20180101T000000
END:STANDARD
END:VTIMEZONE
BEGIN:VEVENT
DTSTART;TZID=UTC:20190429T171500
DTEND;TZID=UTC:20190429T183000
DTSTAMP:20260423T062543
CREATED:20190401T153352Z
LAST-MODIFIED:20190401T153352Z
UID:1236118-1556558100-1556562600@kraftur.org
SUMMARY:FítonsYoga - Frá streitu til slökunar
DESCRIPTION:Hefur þig langað að prófa jóga en aldrei þorað? Hefur þú reynt að stunda jóga en það hefur aldrei orðið að venju? Eða ertu nú þegar ástfangin/nn af jóga og vilt nýta hvert tækifæri til að stunda það í góðum hópi fólks? Þá er þetta námskeið eitthvað fyrir þig! \nNýtt 4 vikna námskeið að hefst í FítonsYoga þann 29.apríl.\nNámskeiðið Frá streitu til slökunar er hugsað bæði fyrir byrjendur og lengra komna. Markmið námskeiðsins er að auka styrk og liðleika og hjálpa þér að slaka á í amstri dagsins. Þú munt fá tæki og tól til að hjálpa þér að vera í meðvitund með eigin líkama. Hentar bæði fyrir þá sem eru í krabbameinmeðferð eða eru að byggja sig upp eftir veikindin sem og fyrir aðstandendur. \nEina sem þú þarft ert þú sjálf/ur og föt sem þægilegt er að hreyfa sig í. Dýnur verða á staðnum\, en þú mátt að sjálfsögðu mæta með þína eigin. Námskeiðið er félagsmönnum okkar að kostnaðarlausu.  \nPála Margrét kennir námskeiðið\, en hún hefur lokið 500 klst. jógakennaranámi í Tælandi. Hún hefur sjálf notað jóga til að koma sér í gegnum erfið veikindi og nýtist sú reynsla henni við kennsluna.  \nSkráðu þig hér!\n\nFrekari upplýsingar veitir Pála Margrét: palamargret@hamingjujoga.is
URL:https://kraftur.org/vidburdur/fitonsyoga-fra-streitu-til-slokunar/
LOCATION:Kraftur  – Stuðningsfélag fyrir ungt fólk sem greinst hefur með krabbamein og aðstandendur\, Skógarhlíð 8\, Reykjavík\, Reykjavík\, 105\, Iceland
ATTACH;FMTTYPE=image/png:https://kraftur.org/wp-content/uploads/2019/04/banner_april__fítons_yoga-2.png
END:VEVENT
BEGIN:VEVENT
DTSTART;TZID=UTC:20190515T200000
DTEND;TZID=UTC:20190515T220000
DTSTAMP:20260423T062543
CREATED:20190507T004014Z
LAST-MODIFIED:20190507T004014Z
UID:1237206-1557950400-1557957600@kraftur.org
SUMMARY:StrákaKraftur - bogfimi
DESCRIPTION:Þegar maður er ungur og greinist með krabbamein skiptir svo miklu máli að vita hvert maður getur leitað og maður standi ekki einn í baráttunni. \nStrákaKraftur er stuðningshópur fyrir unga menn á aldrinum 18 – 45 ára sem greinst hafa með krabbamein. Hópurinn hittist annan hvern þriðjudag kl. 20 í húsakynnum Krafts eða á öðrum fyrirfram ákveðnum snilldar stöðum. \nTveir hittingar í maí \n\n15.maí (miðvikudagur)– Bogfimi – Hittumst í Bogfimisetrinu kl. 20 og tökum nokkra leiki og fáum kennslu. Þú mátt melda þig á viðburðinn hér.\n28.maí (þriðjudagur) – Keila – Hittum í Keiluhöllinni Egilshöll kl. 20.\nÞú mátt melda þig á viðburðinn hér.\n\nUmsjónarmenn StrákaKrafts er Þorri Snæbjörnsson\, sálfræðingur Krafts og Birkir Már Birgisson\, félagsmaður. \nHér er hægt að óska eftir inngöngu í FB – hóp StrákaKrafts. 
URL:https://kraftur.org/vidburdur/strakakraftur-bogfimi/
LOCATION:Bogfimisetrið\, Dugguvogur 2\, Reykjavík\, Reykjavík\, 104\, Iceland
ATTACH;FMTTYPE=image/png:https://kraftur.org/wp-content/uploads/2018/08/StrákaKraftur2-2.png
END:VEVENT
END:VCALENDAR