BEGIN:VCALENDAR
VERSION:2.0
PRODID:-//Kraftur - ECPv6.15.15//NONSGML v1.0//EN
CALSCALE:GREGORIAN
METHOD:PUBLISH
X-WR-CALNAME:Kraftur
X-ORIGINAL-URL:https://kraftur.org
X-WR-CALDESC:Viðburðir í Kraftur
REFRESH-INTERVAL;VALUE=DURATION:PT1H
X-Robots-Tag:noindex
X-PUBLISHED-TTL:PT1H
BEGIN:VTIMEZONE
TZID:UTC
BEGIN:STANDARD
TZOFFSETFROM:+0000
TZOFFSETTO:+0000
TZNAME:UTC
DTSTART:20180101T000000
END:STANDARD
END:VTIMEZONE
BEGIN:VEVENT
DTSTART;TZID=UTC:20190519T150000
DTEND;TZID=UTC:20190519T173000
DTSTAMP:20260423T044451
CREATED:20190501T103651Z
LAST-MODIFIED:20190501T103651Z
UID:1237048-1558278000-1558287000@kraftur.org
SUMMARY:Lífið er núna hlaupið
DESCRIPTION:Lífið er núna hlaupið verður haldið 19. maí í tilefni  af 20 ára afmæli félagsins. \nÞá ætlum að við að koma saman og hlaupa til góðs og njóta líðandi stundar því lífið er núna. \nHlaupið verður frá Háskóla Reykjavíkur þar sem skemmtidagskrá verður fyrir hlaup og ýmislegt skemmtilegt að gerast fyrir unga sem aldna.  Um er að ræða 5 km hlaup með tímatöku og 1\,5 km skemmtiskokk fyrir yngstu kynslóðina. Hlaupið verður frá HR vestur í átt að Ægissíðu í 5 km tímatökuhlaupinu og  að Valsheimilinu í skemmtiskokkinu. \n\n1\,5 km skemmtiskokk hefst kl. 15:50.\n5 km hlaupið hefst kl. 16:00.\n\nMeð því að taka þátt í Lífið er núna hlaupinu sýnir þú stuðning í verki með ungu fólki sem að greinst hefur með krabbamein. Þetta er frábær stund til að koma saman\, hreyfa sig\, fagna lífinu og láta gott af sér leiða. Allur ágóði af hlaupinu rennur til Krafts sem styður við bakið á ungu fólki sem greinst hefur með krabbamein og aðstandendum. \nNánari upplýsingar og skráning fer fram hér. Eftir skráningu geturðu sótt gögnin þín til Krafts\, Skógarhlíð 8 (hús Krabbameinsfélagsins) laugardaginn\, 18. maí til klukkan 15 og frá 14:30 hlaupadaginn\, 19. maí í Háskólanum í Reykjavík fram að hlaupi sem hefst 15:50 og 16:00. \nSkemmtidagskrá hjá Háskólanum í Reykjavík frá kl. 15:00 \n\nJón Jónsson\, Sirkus Íslands\, hoppukastalar\, andlitsmálning\, upphitun með Elísabetu Margeirsdóttir hlaupakona og fleiri
URL:https://kraftur.org/vidburdur/lifid-er-nuna-hlaupid/
LOCATION:Háskóli Reykjavíkur\, Menntavegi 1\, Reykjavík\, Reykjavík\, 101\, Iceland
ATTACH;FMTTYPE=image/jpeg:https://kraftur.org/wp-content/uploads/2019/05/hlaup2_web-2-scaled.jpg
END:VEVENT
END:VCALENDAR