BEGIN:VCALENDAR
VERSION:2.0
PRODID:-//Kraftur - ECPv6.15.15//NONSGML v1.0//EN
CALSCALE:GREGORIAN
METHOD:PUBLISH
X-WR-CALNAME:Kraftur
X-ORIGINAL-URL:https://kraftur.org
X-WR-CALDESC:Viðburðir í Kraftur
REFRESH-INTERVAL;VALUE=DURATION:PT1H
X-Robots-Tag:noindex
X-PUBLISHED-TTL:PT1H
BEGIN:VTIMEZONE
TZID:UTC
BEGIN:STANDARD
TZOFFSETFROM:+0000
TZOFFSETTO:+0000
TZNAME:UTC
DTSTART:20180101T000000
END:STANDARD
END:VTIMEZONE
BEGIN:VEVENT
DTSTART;TZID=UTC:20190605T200000
DTEND;TZID=UTC:20190605T220000
DTSTAMP:20260423T044447
CREATED:20190603T095111Z
LAST-MODIFIED:20190603T095111Z
UID:1237730-1559764800-1559772000@kraftur.org
SUMMARY:Kaffihúsakvöld í núinu
DESCRIPTION:Næsta kaffihúsakvöld Krafts verður haldið miðvikudaginn 5.júní í Ráðgjafarþjónustu Krabbameinsfélagsins. \nEru kaffihúsakvöldin haldin fyrir ungt fólk sem greinst hefur með krabbamein og aðstandendur til að geta hitt aðra í svipuðum sporum og spjallað og deilt reynslu. \nEinnig mun Edda Margrét Guðmundsdóttir sálfræðingur og leiðbeinandi hjá Núvitundarsetrinu koma og spjalla og kynna fyrir okkur núvitund og hagnýtar æfingar sem geta nýst okkur í dagsdaglegu lífi og til að takast á við áskoranir í amstri dagsins. \nFulltrúar frá Krafti taka vel á móti ykkur yfir rjúkandi heitum kaffi/tebolla og annarri hressingu.  Ef þið hafið einhverjar spurningar getið þið haft samband í síma Krafts 866-9600. \nÞetta er opið hús svo fólk getur komið og kíkt við eins og það vill 🙂
URL:https://kraftur.org/vidburdur/kaffihusakvold-i-nuinu/
LOCATION:Kraftur  – Stuðningsfélag fyrir ungt fólk sem greinst hefur með krabbamein og aðstandendur\, Skógarhlíð 8\, Reykjavík\, Reykjavík\, 105\, Iceland
ATTACH;FMTTYPE=image/jpeg:https://kraftur.org/wp-content/uploads/2019/06/61425387_2251258581630927_4996095482729070592_o-2.jpg
END:VEVENT
END:VCALENDAR