BEGIN:VCALENDAR
VERSION:2.0
PRODID:-//Kraftur - ECPv6.15.15//NONSGML v1.0//EN
CALSCALE:GREGORIAN
METHOD:PUBLISH
X-WR-CALNAME:Kraftur
X-ORIGINAL-URL:https://kraftur.org
X-WR-CALDESC:Viðburðir í Kraftur
REFRESH-INTERVAL;VALUE=DURATION:PT1H
X-Robots-Tag:noindex
X-PUBLISHED-TTL:PT1H
BEGIN:VTIMEZONE
TZID:UTC
BEGIN:STANDARD
TZOFFSETFROM:+0000
TZOFFSETTO:+0000
TZNAME:UTC
DTSTART:20180101T000000
END:STANDARD
END:VTIMEZONE
BEGIN:VEVENT
DTSTART;TZID=UTC:20190103T173000
DTEND;TZID=UTC:20190103T183000
DTSTAMP:20260423T044456
CREATED:20190105T225256Z
LAST-MODIFIED:20190105T225256Z
UID:1233761-1546536600-1546540200@kraftur.org
SUMMARY:Æfing hjá FítonsKrafti
DESCRIPTION:FítonsKraftur er endurhæfing í formi hreyfingar og útivistar fyrir ungt fólk sem greinst hefur með krabbamein.\nÆfingar eru í Heilsuborg 2x í viku undir handleiðslu Atla Más Sveinssonar íþróttafræðings. Frekari upplýsingar og skráning má finna hér.
URL:https://kraftur.org/vidburdur/aefing-hja-fitonskrafti-7/
LOCATION:Heilsuborg\, Bíldshöfði 9\, Reykjavík\, 110\, Iceland
END:VEVENT
BEGIN:VEVENT
DTSTART;TZID=UTC:20190611T200000
DTEND;TZID=UTC:20190611T200000
DTSTAMP:20260423T044456
CREATED:20190603T095622Z
LAST-MODIFIED:20190603T095622Z
UID:1237732-1560283200-1560283200@kraftur.org
SUMMARY:StrákaKraftur - Fótboltagolf
DESCRIPTION:Þriðjudaginn 11. júní ætlar StrákaKraftur að skella sér í fótboltagolf í Skemmtigarðinum Grafarvogi. Ætlum við að hittast kl. 20 við ganginn og taka hring saman. Fótboltagolfið er þér að kostnaðarlausu ef þú ert í StrákaKrafti. \nStrákaKraftur er stuðningshópur fyrir unga karlmenn á aldrinum 18 til 45 ára sem greinst hafa með krabbamein. \nHægt er að óska eftir inngöngu í hópinn hér: vovv \nUmsjónarmenn StrákaKrafts eru Þorri Snæbjörnsson\, sálfræðingur Krafts og Birkir Már Birgisson\, félagsmaður Krafts.\nFrekari upplýsingar veitir Birkir í síma (660-2780) eða Þorri í síma (866-9618).
URL:https://kraftur.org/vidburdur/strakakraftur-fotboltagolf/
LOCATION:Skemmtigarðurinn Grafarvogi\, 112 Reykjavík\, 112\, Iceland
ATTACH;FMTTYPE=image/jpeg:https://kraftur.org/wp-content/uploads/2019/06/strákakraftur.jpg
END:VEVENT
END:VCALENDAR