BEGIN:VCALENDAR
VERSION:2.0
PRODID:-//Kraftur - ECPv6.15.15//NONSGML v1.0//EN
CALSCALE:GREGORIAN
METHOD:PUBLISH
X-ORIGINAL-URL:https://kraftur.org
X-WR-CALDESC:Viðburðir í Kraftur
REFRESH-INTERVAL;VALUE=DURATION:PT1H
X-Robots-Tag:noindex
X-PUBLISHED-TTL:PT1H
BEGIN:VTIMEZONE
TZID:UTC
BEGIN:STANDARD
TZOFFSETFROM:+0000
TZOFFSETTO:+0000
TZNAME:UTC
DTSTART:20180101T000000
END:STANDARD
END:VTIMEZONE
BEGIN:VEVENT
DTSTART;TZID=UTC:20190612T170000
DTEND;TZID=UTC:20190612T210000
DTSTAMP:20260423T031809
CREATED:20190603T112832Z
LAST-MODIFIED:20190603T112832Z
UID:1237772-1560358800-1560373200@kraftur.org
SUMMARY:Klifur í Valshamri og grill - FítonsKraftur
DESCRIPTION:Við elskum að fara út fyrir þægindarammann og prófa nýja hluti og í þetta skiptið ætlum við að fara í Valshamar og klifra. \nGústi og Benjamín frá Klifurhúsinu ætla að taka okkur í klifurkennslu og kenna okkur réttur taktana og verða með allan búnað á staðnum. Gústi er einnig félagsmaður í Krafti og hefur notað göngur og klifur sér til endurhæfingar og hefur sýnt fram að stóma eða annað þarf ekki að vera fólki til fyrirstöðu til að klífa fjöll. \nEftir klifrið ætlum við að grilla í góða veðrinu og njóta. \nÆtlum við að hittast hjá Heilsuborg kl. 17\, Bíldshöfða 9 upp á Höfða til að sameinast í bíla og leggjum af stað þaðan. \nÞessi viðburður er öllum félagsmönnum Krafts opinn\, krabbameinsgreindum og aðstandendum\, og að kostnaðarlausu og þarftu ekki að vera meðlimur í FítonsKrafti til að taka þátt 🙂 \nVinsamlegast skráðu þig hér.  \nÞjálfari FítonsKrafts er Atli Már Sveinsson\, íþróttafræðingur sem hefur sérhæft sig í þjálfun krabbameinsgreindra.\nHægt er að óska eftir inngöngu í FítonsKraft hér: https://www.facebook.com/groups/fitonskraftur/
URL:https://kraftur.org/vidburdur/klifur-valshamri-og-grill-fitonskraftur/
LOCATION:Valshamar\, Hvalfjörður\, Hvalfjörður\, Iceland
ATTACH;FMTTYPE=image/jpeg:https://kraftur.org/wp-content/uploads/2019/06/banner_mai_klifur_grill-2-scaled.jpg
END:VEVENT
END:VCALENDAR