BEGIN:VCALENDAR
VERSION:2.0
PRODID:-//Kraftur - ECPv6.15.15//NONSGML v1.0//EN
CALSCALE:GREGORIAN
METHOD:PUBLISH
X-WR-CALNAME:Kraftur
X-ORIGINAL-URL:https://kraftur.org
X-WR-CALDESC:Viðburðir í Kraftur
REFRESH-INTERVAL;VALUE=DURATION:PT1H
X-Robots-Tag:noindex
X-PUBLISHED-TTL:PT1H
BEGIN:VTIMEZONE
TZID:UTC
BEGIN:STANDARD
TZOFFSETFROM:+0000
TZOFFSETTO:+0000
TZNAME:UTC
DTSTART:20180101T000000
END:STANDARD
END:VTIMEZONE
BEGIN:VEVENT
DTSTART;TZID=UTC:20190626T173000
DTEND;TZID=UTC:20190626T193000
DTSTAMP:20260423T044456
CREATED:20190603T100712Z
LAST-MODIFIED:20190603T100712Z
UID:1237740-1561570200-1561577400@kraftur.org
SUMMARY:Að klífa á brattann - Úlfarsfell
DESCRIPTION:Þann 26. júní ætlum við að skella okkur á Úlfarsfell sem er 296 metrar. Hittumst á bílastæðinu við Úlfarsfell sem stendur við við endan á Skyggnisbraut\, keyrt upp hjá Bauhaus. Þaðan er um 160 metra hækkun og er gönguleiðin á erfiðleikastigi 1. Frábær ganga og hlökkum við til að sjá sem flesta. \nAð klífa brattann er gönguhópur sem Kraftskonurnar Ragnheiður Guðmundsdóttir og G.sigríður Ágústsdóttir leiða en þær hafa báðar notað útivist og fjallgöngur sér til endurhæfingar og sjálfseflingar í veikindum sínum. Göngurnar henta öllum þeim sem hafa áhuga á að kynna sér göngur og íslenska náttúru og njóta þess að vera í hópi meðal jafningja. \nKraftsfélagar\, fjölskyldur þeirra\, börn og vinir eru hjartanlega velkomin. \nRagnheiður (sími: 663-9360) og Sirrý (sími: 660-4407)
URL:https://kraftur.org/vidburdur/ad-klifa-brattann-ulfarsfell-2/
LOCATION:Úlfarsfell\, Bílastæðin við skógræktarsvæðið í vesturhlíðum Úlfarsfells
ATTACH;FMTTYPE=image/jpeg:https://kraftur.org/wp-content/uploads/2019/06/að-klífa-brattann.jpg
END:VEVENT
END:VCALENDAR