BEGIN:VCALENDAR
VERSION:2.0
PRODID:-//Kraftur - ECPv6.15.15//NONSGML v1.0//EN
CALSCALE:GREGORIAN
METHOD:PUBLISH
X-WR-CALNAME:Kraftur
X-ORIGINAL-URL:https://kraftur.org
X-WR-CALDESC:Viðburðir í Kraftur
REFRESH-INTERVAL;VALUE=DURATION:PT1H
X-Robots-Tag:noindex
X-PUBLISHED-TTL:PT1H
BEGIN:VTIMEZONE
TZID:UTC
BEGIN:STANDARD
TZOFFSETFROM:+0000
TZOFFSETTO:+0000
TZNAME:UTC
DTSTART:20180101T000000
END:STANDARD
END:VTIMEZONE
BEGIN:VEVENT
DTSTART;TZID=UTC:20190710T170000
DTEND;TZID=UTC:20190710T190000
DTSTAMP:20260423T014131
CREATED:20190627T140449Z
LAST-MODIFIED:20190627T140449Z
UID:1238259-1562778000-1562785200@kraftur.org
SUMMARY:Kubb - Krabbamein fer ekki í frí
DESCRIPTION:Miðvikudaginn 10. júlí ætlar Kraftur að vera með Kubb í Laugardalnum undir yfirskriftinni Krabbamein fer ekki í frí. En á hverjum miðvikudegi í júlí stendur Kraftur fyrir viðburði undir yfirskriftinni Krabbamein fer ekki í frí fyrir félagsmenn sína þar sem við höfum að megin markmiði að koma saman\, njóta útivistar og líðandi stundar. Viðburðirnir eru bæði fyrir fólk sem hefur greinst með krabbamein sem og aðstandendur og er tilvalin stund fyrir vini og fjölskyldu að koma saman. \nVið ætlum að hittast klukkan 17:00 hjá bílastæðinu hjá Skautahöllinni og rölta saman og finna skemmtilegt svæði til að fara saman í kubb. Þú þarft ekkert að kunna leikinn heldur er hann mjög einfaldur og förum við yfir allar reglur á svæðinu en aðal markmiðið er að koma saman og njóta líðandi stundar. \nEndilega meldið ykkur hér á Facebook til að við vitum hversu margir eru að koma. \nKrabbamein fer ekki í frí\nKrabbamein fer ekki í frí er vitundarvakning Krafts sem snýr að því að vekja athygli á því að þótt fólk fari í sumarfrí þá fer krabbamein ekki í frí. Oft getur verið minni starfsemi og þjónusta yfir sumartímann í heilbrigðisgeiranum og kvartar fólk oft undan takmarkaðri þjónustu.\nKraftur hefur því tekið saman á einn stað hvernig opnun er hjá hinum ýmsu þjónustuaðilum fyrir fólk sem greinist með krabbamein og aðstandendur svo fólk viti hvert það getur leitað og hvenær þar sem við gerum okkur grein fyrir að krabbamein fer ekki í frí. \nEinnig munum við standa fyrir vikulegum viðburðum í júlí fyrir félagsmenn sína þar sem markmiðið er að koma saman\, stunda útivist og njóta líðandi stundar.
URL:https://kraftur.org/vidburdur/kubb-krabbamein-fer-ekki-fri/
LOCATION:Laugardalur\, 105\, Iceland
ATTACH;FMTTYPE=image/jpeg:https://kraftur.org/wp-content/uploads/2019/06/banner_juli_kubb_web-2.jpg
END:VEVENT
END:VCALENDAR