BEGIN:VCALENDAR
VERSION:2.0
PRODID:-//Kraftur - ECPv6.15.15//NONSGML v1.0//EN
CALSCALE:GREGORIAN
METHOD:PUBLISH
X-ORIGINAL-URL:https://kraftur.org
X-WR-CALDESC:Viðburðir í Kraftur
REFRESH-INTERVAL;VALUE=DURATION:PT1H
X-Robots-Tag:noindex
X-PUBLISHED-TTL:PT1H
BEGIN:VTIMEZONE
TZID:UTC
BEGIN:STANDARD
TZOFFSETFROM:+0000
TZOFFSETTO:+0000
TZNAME:UTC
DTSTART:20180101T000000
END:STANDARD
END:VTIMEZONE
BEGIN:VEVENT
DTSTART;TZID=UTC:20190826T170000
DTEND;TZID=UTC:20190826T183000
DTSTAMP:20260422T223715
CREATED:20190807T191029Z
LAST-MODIFIED:20190807T191029Z
UID:1239109-1566838800-1566844200@kraftur.org
SUMMARY:StelpuKraftur hefst á ný
DESCRIPTION:StelpuKraftur hefst á ný eftir sumarfrí 26. ágúst næstkomandi þar sem við ætlum að hittast í húsakynnum Krafts Skógarhlíð 8\,spjalla saman og stilla saman strengi fyrir haustið. StelpuKraftur er stuðningshópur fyrir ungar konur á aldrinum 18-45 ára sem greinst hafa með krabbamein. \nÞegar maður er ungur og greinist með krabbamein er svo gott að geta hitt jafningja í sömu sporum\, deila reynslu og fá stuðning frá hvor öðrum. Einstaklinga sem hafa skilning sem einungis fæst með því að upplifa hlutina sjálfur. \nHópurinn hittist annan hvern mánudag klukkan 17:00 í húsnæði Krafts að Skógarhlíð 8. Umsjónarmaður með hópnum er Elín Kristín Klar\, ráðgjafi. \nÞú getur sótt um inngöngu í Facebook hóp StelpuKrafts hér \n  \n 
URL:https://kraftur.org/vidburdur/stelpukraftur-2/
LOCATION:Kraftur  – Stuðningsfélag fyrir ungt fólk sem greinst hefur með krabbamein og aðstandendur\, Skógarhlíð 8\, Reykjavík\, Reykjavík\, 105\, Iceland
ATTACH;FMTTYPE=image/jpeg:https://kraftur.org/wp-content/uploads/2019/06/stelpukraftur.jpg
END:VEVENT
END:VCALENDAR