BEGIN:VCALENDAR
VERSION:2.0
PRODID:-//Kraftur - ECPv6.15.15//NONSGML v1.0//EN
CALSCALE:GREGORIAN
METHOD:PUBLISH
X-WR-CALNAME:Kraftur
X-ORIGINAL-URL:https://kraftur.org
X-WR-CALDESC:Viðburðir í Kraftur
REFRESH-INTERVAL;VALUE=DURATION:PT1H
X-Robots-Tag:noindex
X-PUBLISHED-TTL:PT1H
BEGIN:VTIMEZONE
TZID:UTC
BEGIN:STANDARD
TZOFFSETFROM:+0000
TZOFFSETTO:+0000
TZNAME:UTC
DTSTART:20180101T000000
END:STANDARD
END:VTIMEZONE
BEGIN:VEVENT
DTSTART;TZID=UTC:20190907T130000
DTEND;TZID=UTC:20190907T160000
DTSTAMP:20260422T223414
CREATED:20190830T195312Z
LAST-MODIFIED:20190830T195312Z
UID:1239728-1567861200-1567872000@kraftur.org
SUMMARY:Perlað af Krafti með Sprett
DESCRIPTION:Í tilefni af Metamóti Spretts leggur Kraftur leið sína í Kópavoginn og perlar með Spretti og laugardaginn 7.september frá kl. 13 til 16 í Samskipahöllinni.\nMeð því að taka þátt í viðburðinum eru þið að hjálpa okkur að standa við bakið á ungu fólki sem greinst hefur með krabbamein og aðstandendum þess þar sem armböndin eru seld til styrkar félaginu. \nArmböndin sem um ræðir eru svört og metal lituð. Armböndin eru með áletruninni „Lífið er núna“ og eru auðveld í samsetningu svo að allir geta tekið þátt\, börn sem fullorðnir. \nVið hvetjum alla Spretts félaga og aðra áhugasama að taka þátt í þessu skemmtilega verkefni með okkur. Öll armböndin eru perluð í sjálfboðavinnu og því mikil hugsjón bakvið hvert armband. Allur ágóði af sölu armbandanna rennur til Krafts – stuðningsfélag fyrir ungt fólk sem greinst hefur með krabbamein og aðstandendur og er hægt að kaupa armböndin líka strax á staðnum ásamt öðrum varning merktum Lífið er núna. \nÞetta er skemmtileg stund fyrir alla fjölskylduna og tilvalið tækifæri að láta gott af sér leiða og að sjálfsögðu verður heitt á könnunni! \nKOMIÐ OG PERLIÐ AF KRAFTI ♥
URL:https://kraftur.org/vidburdur/perlad-af-krafti-med-sprett/
LOCATION:Samskipahölin\, Hestheimar 14-16\, Kópavogur\, 203\, Iceland
ATTACH;FMTTYPE=image/jpeg:https://kraftur.org/wp-content/uploads/2018/01/75A0285net-2-2.jpg
END:VEVENT
END:VCALENDAR