BEGIN:VCALENDAR
VERSION:2.0
PRODID:-//Kraftur - ECPv6.15.15//NONSGML v1.0//EN
CALSCALE:GREGORIAN
METHOD:PUBLISH
X-WR-CALNAME:Kraftur
X-ORIGINAL-URL:https://kraftur.org
X-WR-CALDESC:Viðburðir í Kraftur
REFRESH-INTERVAL;VALUE=DURATION:PT1H
X-Robots-Tag:noindex
X-PUBLISHED-TTL:PT1H
BEGIN:VTIMEZONE
TZID:UTC
BEGIN:STANDARD
TZOFFSETFROM:+0000
TZOFFSETTO:+0000
TZNAME:UTC
DTSTART:20180101T000000
END:STANDARD
END:VTIMEZONE
BEGIN:VEVENT
DTSTART;TZID=UTC:20190914T110000
DTEND;TZID=UTC:20190914T130000
DTSTAMP:20260422T223547
CREATED:20190904T161121Z
LAST-MODIFIED:20190904T161121Z
UID:1239833-1568458800-1568466000@kraftur.org
SUMMARY:Að klífa brattann - Ganga hjá Hvaleyrarvatni
DESCRIPTION:Skellum okkur í rúmlega 5 km göngu hjá Hvaleyrarvatni tekur um 2 klst. Ekki mikil hækkun og ganga sem ætti að henta stórum sem smáum. \nKomum saman og njótum þess að vera úti að hreyfa okkur í fallegri náttúru. Hittumst hjá fyrsta bílastæðinu þegar komið er frá Kaldársselsvegi en þar fyrir framan er Sandvík. \nAð klífa brattann er gönguhópur fyrir krabbameinsgreinda og aðstandendur sem Kraftskonurnar Ragnheiður Guðmundsdóttir og G.sigríður Ágústsdóttir leiða en þær hafa báðar notað útivist og fjallgöngur sér til endurhæfingar og sjálfseflingar í veikindum sínum. \nGöngurnar henta öllum þeim sem hafa áhuga á að kynna sér göngur og íslenska náttúru og njóta þess að vera í hópi meðal jafningja. \nKraftsfélagar\, fjölskyldur þeirra\, börn og vinir eru hjartanlega velkomin. Endilega meldið ykkur á Facebook viðburðinum  \nRagnheiður (sími: 663-9360) og Sirrý (sími: 660-4407)
URL:https://kraftur.org/vidburdur/ad-klifa-brattann-ganga-hja-hvaleyrarvatni/
LOCATION:Hvaleyrarvatn\, Hafnarfjörður\, Iceland
ATTACH;FMTTYPE=image/jpeg:https://kraftur.org/wp-content/uploads/2019/06/að-klífa-brattann.jpg
END:VEVENT
END:VCALENDAR