BEGIN:VCALENDAR
VERSION:2.0
PRODID:-//Kraftur - ECPv6.15.15//NONSGML v1.0//EN
CALSCALE:GREGORIAN
METHOD:PUBLISH
X-WR-CALNAME:Kraftur
X-ORIGINAL-URL:https://kraftur.org
X-WR-CALDESC:Viðburðir í Kraftur
REFRESH-INTERVAL;VALUE=DURATION:PT1H
X-Robots-Tag:noindex
X-PUBLISHED-TTL:PT1H
BEGIN:VTIMEZONE
TZID:UTC
BEGIN:STANDARD
TZOFFSETFROM:+0000
TZOFFSETTO:+0000
TZNAME:UTC
DTSTART:20180101T000000
END:STANDARD
END:VTIMEZONE
BEGIN:VEVENT
DTSTART;TZID=UTC:20190918T171500
DTEND;TZID=UTC:20190918T183000
DTSTAMP:20260422T205701
CREATED:20190904T112041Z
LAST-MODIFIED:20190904T112041Z
UID:1239777-1568826900-1568831400@kraftur.org
SUMMARY:Fræðslufyrirlestur - Geta viðbótarmeðferðir gagnast fólki með krabbamein?
DESCRIPTION:Geta viðbótarmeðferðir gagnast fólki með krabbamein? Fræðsla og spjall með Ágústu Kr. Andersen\, hjúkrunar- og nálastungufræðingi og Karítas Björgúlfsdóttur félagsmanni í Krafti. \n\n\nÁgústa mun fara yfir hverjar helstu meðferðirnar eru\, hvort þær eru að nýtast fólki eða ekki\, hvað hefur verið rannsakað og hvað ætti að forðast að gera. Meginmarkmið Ágústu er að hjálpa fólki að fá smá yfirsýn og innsýn inn í það hvað getur verið hjálplegt og öruggt að nota og hvað ekki\, hvernig gott er að nálgast slíkar meðferðir og velja.\n\n\nKarítas Björgúlfsdóttir greindist með heilaæxli 35 ára gömul og mun hún deila reynslu sinni af viðbótarmeðferðum og úrræðum sem hún hefur nýtt sér.\n\n\nFræðslufyrirlesturinn mun fara fram í húsakynnum Ráðgjafarþjónustu Krabbameinsfélagsins Skógarhlíð 8. Allir velkomnir og er ókeypis á viðburðinn.
URL:https://kraftur.org/vidburdur/fraedslufyrirlestur-geta-vidbotarmedferdir-gagnast-folki-med-krabbamein/
LOCATION:Kraftur  – Stuðningsfélag fyrir ungt fólk sem greinst hefur með krabbamein og aðstandendur\, Skógarhlíð 8\, Reykjavík\, Reykjavík\, 105\, Iceland
ATTACH;FMTTYPE=image/jpeg:https://kraftur.org/wp-content/uploads/2019/09/Fyrirlestrarröd_vidbotarmedferdir_web-1.jpg
END:VEVENT
BEGIN:VEVENT
DTSTART;TZID=UTC:20190909T193000
DTEND;TZID=UTC:20190909T204500
DTSTAMP:20260422T205701
CREATED:20190807T145435Z
LAST-MODIFIED:20190807T145435Z
UID:1239060-1568057400-1568061900@kraftur.org
SUMMARY:FítonsYoga frá streitu til slökunar
DESCRIPTION:Hefur þig langað að prófa jóga en aldrei þorað? Hefur þú reynt að stunda jóga en það hefur aldrei orðið að venju? Eða ertu nú þegar ástfangin/nn af jóga og vilt nýta hvert tækifæri til að stunda það í góðum hópi fólks? Þá er þetta námskeið eitthvað fyrir þig! \nNýtt 4 vikna námskeið að hefst í FítonsYoga þann 9. september\nNámskeiðið Frá streitu til slökunar er hugsað bæði fyrir byrjendur og lengra komna. Markmið námskeiðsins er að auka styrk og liðleika og hjálpa þér að slaka á í amstri dagsins. Þú munt fá tæki og tól til að hjálpa þér að vera í meðvitund með eigin líkama. Hentar bæði fyrir þá sem eru í krabbameinmeðferð eða eru að byggja sig upp eftir veikindin sem og fyrir aðstandendur. \nEina sem þú þarft ert þú sjálf/ur og föt sem þægilegt er að hreyfa sig í. Dýnur verða á staðnum\, en þú mátt að sjálfsögðu mæta með þína eigin. Námskeiðið er félagsmönnum okkar að kostnaðarlausu.  \nPála Margrét kennir námskeiðið\, en hún hefur lokið 500 klst. jógakennaranámi í Tælandi. Hún hefur sjálf notað jóga til að koma sér í gegnum erfið veikindi og nýtist sú reynsla henni við kennsluna.  \nSkráðu þig hér!\n\nFrekari upplýsingar veitir Pála Margrét: palamargret@hamingjujoga.is
URL:https://kraftur.org/vidburdur/fitonsyoga-fra-streitu-til-slokunar-2/
LOCATION:Kraftur  – Stuðningsfélag fyrir ungt fólk sem greinst hefur með krabbamein og aðstandendur\, Skógarhlíð 8\, Reykjavík\, Reykjavík\, 105\, Iceland
ATTACH;FMTTYPE=image/png:https://kraftur.org/wp-content/uploads/2019/04/banner_april__fítons_yoga-2.png
END:VEVENT
END:VCALENDAR