BEGIN:VCALENDAR
VERSION:2.0
PRODID:-//Kraftur - ECPv6.15.15//NONSGML v1.0//EN
CALSCALE:GREGORIAN
METHOD:PUBLISH
X-ORIGINAL-URL:https://kraftur.org
X-WR-CALDESC:Viðburðir í Kraftur
REFRESH-INTERVAL;VALUE=DURATION:PT1H
X-Robots-Tag:noindex
X-PUBLISHED-TTL:PT1H
BEGIN:VTIMEZONE
TZID:UTC
BEGIN:STANDARD
TZOFFSETFROM:+0000
TZOFFSETTO:+0000
TZNAME:UTC
DTSTART:20180101T000000
END:STANDARD
END:VTIMEZONE
BEGIN:VEVENT
DTSTART;TZID=UTC:20190919T170000
DTEND;TZID=UTC:20190919T210000
DTSTAMP:20260422T223727
CREATED:20190904T102216Z
LAST-MODIFIED:20190904T102216Z
UID:1239782-1568912400-1568926800@kraftur.org
SUMMARY:Stuðningsfulltrúa-námskeið
DESCRIPTION:Vilt þú nýta þína reynslu til að hjálpa öðrum í svipuðum sporum? \nNæsta stuðningsfulltrúanámskeið fyrir verðandi stuðningsfulltrúa í Stuðningsnetinu verður haldið í tveimur pörtum fimmtudagana 19.september og 26.september\, frá klukkan 17:00 til 21:00. Námskeiðið verður haldið í sal Ráðgjafarþjónustunnar á fyrstu hæð í húsnæði Krabbameinsfélagsins\, Skógarhlíð 8. Boðið verður upp á kvöldmat bæði kvöldin í boði Krafts og Ráðgjafarþjónustu Krabbameinsfélagsins. \nÁ námskeiðinu er m.a. veitt þjálfun í samtalstækni\, að deila reynslu sinni á viðeigandi hátt og að setja mörk. Ásamt því að farið verður yfir ýmis málefni sem oft fylgja krabbameinsveikindum eins og erfiðar tilfinningar\, hvar má nálgast upplýsingar\, aðstoð fagaðila\, samskipti í fjölskyldum\, að tala við börn um krabbamein og fleira. Mælst er til þess að liðin séu a.m.k. tvö ár frá því að meðferð lauk en hvert tilfelli er metið fyrir sig \nNámskeiðið er bæði ætlað þeim sem hafa greinst með krabbamein og hafa lokið við krabbameinsmeðferð sem og aðstandendum\, sem vilja styðja við einstaklinga sem eru í svipuðum sporum. \nTil að taka þátt á námskeiðinu þarf að skrá sig á netfanginu salfraedingur@kraftur.org eða með því að fylla út þetta skráningarform. \nFrekari upplýsingar má sjá hér. \n„Það sem hjálpaði mest var að hitta aðra sem höfðu lent í svipuðum sporum\, Kraftur bjargaði geðheilsunni minni….“ \n26 ára félagsmaður sem greindist með ristilkrabbamein
URL:https://kraftur.org/vidburdur/studningsfulltruanamskeid/
LOCATION:Kraftur  – Stuðningsfélag fyrir ungt fólk sem greinst hefur með krabbamein og aðstandendur\, Skógarhlíð 8\, Reykjavík\, Reykjavík\, 105\, Iceland
ATTACH;FMTTYPE=image/png:https://kraftur.org/wp-content/uploads/2018/09/studningfulltrúanámskeid3-1.png
END:VEVENT
END:VCALENDAR