BEGIN:VCALENDAR
VERSION:2.0
PRODID:-//Kraftur - ECPv6.15.15//NONSGML v1.0//EN
CALSCALE:GREGORIAN
METHOD:PUBLISH
X-ORIGINAL-URL:https://kraftur.org
X-WR-CALDESC:Viðburðir í Kraftur
REFRESH-INTERVAL;VALUE=DURATION:PT1H
X-Robots-Tag:noindex
X-PUBLISHED-TTL:PT1H
BEGIN:VTIMEZONE
TZID:UTC
BEGIN:STANDARD
TZOFFSETFROM:+0000
TZOFFSETTO:+0000
TZNAME:UTC
DTSTART:20180101T000000
END:STANDARD
END:VTIMEZONE
BEGIN:VEVENT
DTSTART;TZID=UTC:20190920T200000
DTEND;TZID=UTC:20190920T223000
DTSTAMP:20260422T223725
CREATED:20190902T100506Z
LAST-MODIFIED:20190902T100506Z
UID:1239743-1569009600-1569018600@kraftur.org
SUMMARY:Núvitundarpartý í Hörpu
DESCRIPTION:Kraftur ásamt Yoga Shala og Yoga Moves verður með einstakan núvitundarviðburð í Hörpu. Komum saman og fáum geggjaða útrás í dansi\, jóga\, hugleiðslu og tónheilun. Saman eflum við lífskraftinn og njótum þess að vera í núinu. Fram koma DJ Margeir\, YAMAHO\, Tómas Oddur og Ingibjörg Stefáns jógakennari og fleiri góðir gestir.  \nLífið er núna eru einkennisorð Krafts og minnir okkur á að gleðjast yfir þeim sigri að fá að lifa í andartakinu „núna“. Er lífið ekki þess virði að við gefum okkur tíma og rými til að fagna því sérstaklega\, eitt andartak?!  \nNúvitundarpartýið er haldið í tilefni af 20 ára afmæli Krafts og rennur allur ágóði af því í starf Krafts í þágu ungs fólk sem greinst hefur með krabbamein og aðstandendur. Þú þarft bara að mæta í þægilegum fötum og með jógadýnu með þér og við leiðum þig inn í núið og vellíðan. Njóttu þess að styrkja gott málefni og koma í núið. \nAllir sem fram koma að viðburðinum gefa vinnu sína. Komdu í núið og styrktu gott málefni í leiðinni – Miðasala er á www.harpa.is
URL:https://kraftur.org/vidburdur/nuvitundarparty-i-horpu/
LOCATION:Harpa\, Austurbakka 2\, Reykjavík\, Reykjavík\, 101\, Iceland
ATTACH;FMTTYPE=image/jpeg:https://kraftur.org/wp-content/uploads/2019/09/Kraftur_banner_1875x964_A-2-2.jpg
END:VEVENT
END:VCALENDAR