BEGIN:VCALENDAR
VERSION:2.0
PRODID:-//Kraftur - ECPv6.15.15//NONSGML v1.0//EN
CALSCALE:GREGORIAN
METHOD:PUBLISH
X-WR-CALNAME:Kraftur
X-ORIGINAL-URL:https://kraftur.org
X-WR-CALDESC:Viðburðir í Kraftur
REFRESH-INTERVAL;VALUE=DURATION:PT1H
X-Robots-Tag:noindex
X-PUBLISHED-TTL:PT1H
BEGIN:VTIMEZONE
TZID:UTC
BEGIN:STANDARD
TZOFFSETFROM:+0000
TZOFFSETTO:+0000
TZNAME:UTC
DTSTART:20180101T000000
END:STANDARD
END:VTIMEZONE
BEGIN:VEVENT
DTSTART;TZID=UTC:20191007T193000
DTEND;TZID=UTC:20191007T204500
DTSTAMP:20260423T000940
CREATED:20190927T112551Z
LAST-MODIFIED:20190927T112551Z
UID:1240495-1570476600-1570481100@kraftur.org
SUMMARY:Nýtt FítonsYoga námskeið
DESCRIPTION:Hefur þig langað að prófa jóga en aldrei þorað? Hefur þú reynt að stunda jóga en það hefur aldrei orðið að venju? Eða ertu nú þegar ástfangin/nn af jóga og vilt nýta hvert tækifæri til að stunda það í góðum hópi fólks? Þá er þetta námskeið eitthvað fyrir þig! \nNýtt 6 vikna námskeið að hefst í FítonsYoga þann 7. október. Námskeiðið er haldið á mánudögum og miðvikudögum kl. 19:30-20:45\n \nNámskeiðið heitir Frá streitu til slökunar er hugsað bæði fyrir byrjendur og lengra komna. Markmið námskeiðsins er að auka styrk og liðleika og hjálpa þér að slaka á í amstri dagsins. Þú munt fá tæki og tól til að hjálpa þér að vera í meðvitund með eigin líkama. Hentar bæði fyrir þá sem eru í krabbameinmeðferð eða eru að byggja sig upp eftir veikindin sem og fyrir aðstandendur. \nEina sem þú þarft ert þú sjálf/ur og föt sem þægilegt er að hreyfa sig í. Dýnur verða á staðnum\, en þú mátt að sjálfsögðu mæta með þína eigin. Námskeiðið er félagsmönnum okkar að kostnaðarlausu.  \nPála Margrét kennir námskeiðið\, en hún hefur lokið 500 klst. jógakennaranámi í Tælandi. Hún hefur sjálf notað jóga til að koma sér í gegnum erfið veikindi og nýtist sú reynsla henni við kennsluna.  \nSkráðu þig hér!\n\nFrekari upplýsingar veitir Pála Margrét: palamargret@hamingjujoga.is
URL:https://kraftur.org/vidburdur/nytt-fitonsyoga-namskeid/
LOCATION:Kraftur  – Stuðningsfélag fyrir ungt fólk sem greinst hefur með krabbamein og aðstandendur\, Skógarhlíð 8\, Reykjavík\, Reykjavík\, 105\, Iceland
ATTACH;FMTTYPE=image/png:https://kraftur.org/wp-content/uploads/2019/04/banner_april__fítons_yoga-2.png
END:VEVENT
BEGIN:VEVENT
DTSTART;TZID=UTC:20191030T201500
DTEND;TZID=UTC:20191030T213000
DTSTAMP:20260423T000940
CREATED:20190930T174606Z
LAST-MODIFIED:20190930T174606Z
UID:1240648-1572466500-1572471000@kraftur.org
SUMMARY:NorðanKraftur
DESCRIPTION:Norðan – Kraftur er stuðningshópur fyrir ungt fólk (45 ára og yngri) sem greinst hefur með krabbamein og aðstandendur staðsettur á Akureyri. \nNorðan-Kraftur mun hittast annan annan hvern miðvikudag í vetur. Tímasetningar eru misjafnar en yfirleitt um eða eftir kvöldmat.\nBoðið verður bæði upp á ýmiskonar skemmtilega viðburði þar sem við komum saman og hittum aðra í sambærilegum sporum. \nHópurinn er samstarfsverkefni Krafts og Krabbameinsfélags Akureyrar og nágrennis. Hópurinn er starfræktur frá Akureyri. \n\nDAGSKRÁ – OKTÓBER \nMið. 2.okt. kl. 20:00\nPubQuiz NorðanKrafts\n \nÞau á Bláu Könnunni ætla að taka vel á móti okkur og munum við njóta aðstoðar Ásþórs Sigurgeirssonar sem ætlar að vera spyrill kvöldsins.\n \nMið . 16. okt. kl. 17:00\nNorðanKraftur prófar SUP (Stand up paddleboard)\n \nHún Sigríður Ýr eða Sigga\, hjá Venture North ætlar að taka á móti okkur og leyfa okkur að prófa SUP en það er það allra heitasta í dag! \nMið. 23.okt.kl. 17:15\nStreymt frá fræðslufyrirlestri Krafts – Streita og veikindi – hvað er til ráða? \nSálfræðingarnir Sóley Dröfn Davíðsdóttir og Anna Sigríður Jökulsdóttir\, frá Kvíðameðferðarstöðinni fjalla um streitustjórnun og óvissuþol.   \n \nMið. 30.okt. kl. 20:15\nNorðanKraftur – Yoga í Ómi\n \nArnbjörg í Ómi Yoga setri ætlar að bjóða okkur að koma til sín og rækta líkama og sál. \nFrekari upplýsingar eru inn á hópi NorðanKrafts – Hægt er að óska eftir inngöngu í hópinn hér.
URL:https://kraftur.org/vidburdur/nordankraftur-2019-10-30/
LOCATION:Akureyri\, Akureyri\, Akureyri\, Akureyri\, 600\, Iceland
ATTACH;FMTTYPE=image/png:https://kraftur.org/wp-content/uploads/2018/08/NorðanKraftur.png
END:VEVENT
END:VCALENDAR