BEGIN:VCALENDAR
VERSION:2.0
PRODID:-//Kraftur - ECPv6.15.15//NONSGML v1.0//EN
CALSCALE:GREGORIAN
METHOD:PUBLISH
X-ORIGINAL-URL:https://kraftur.org
X-WR-CALDESC:Viðburðir í Kraftur
REFRESH-INTERVAL;VALUE=DURATION:PT1H
X-Robots-Tag:noindex
X-PUBLISHED-TTL:PT1H
BEGIN:VTIMEZONE
TZID:UTC
BEGIN:STANDARD
TZOFFSETFROM:+0000
TZOFFSETTO:+0000
TZNAME:UTC
DTSTART:20180101T000000
END:STANDARD
END:VTIMEZONE
BEGIN:VEVENT
DTSTART;VALUE=DATE:20191108
DTEND;VALUE=DATE:20191111
DTSTAMP:20260423T045051
CREATED:20190929T211008Z
LAST-MODIFIED:20190929T211008Z
UID:1240463-1573171200-1573430399@kraftur.org
SUMMARY:Lífið er núna helgi í Borgarfirði
DESCRIPTION:Ekki láta þessa helgi fram hjá þér fara – einungis pláss fyrir 20 manns – skráðu þig strax í dag en um er að ræða frábæra helgi dagana 8. – 10. nóvember. Við verðum í Ensku húsunum sem er kósý gistiheimili við Langá á Mýrum í Borgarfirðinum. \nLífið er núna helgin er endurnærandi og uppbyggjandi helgi fyrir félagsmenn Krafts í samstarfi við KVAN þar sem þú færð tækifæri á að læra það hvernig þú getur tekist á við breyttar aðstæður í þínu lífi og kynnast öðrum í svipuðum sporum. \nSaman ætlum við að: \n\nLæra hvernig við getum tekist á við breyttar aðstæður og nýta okkur styrkleika okkar til að byggja okkur upp\nStunda útivist og skemmtilega hreyfingu\nStunda jóga\nLæra hvernig við getum átt jákvæð samskipti\nFá innsýn inn í það hvernig við getum nýtt okkur núvitund\nFá fræðslu um hvernig við getum náð markmiðum okkar\n\nHelgin er bæði hugsuð fyrir krabbameinsgreinda sem og aðstandendur.  \n„Þessi helgi var ómetanleg fyrir okkur sem par\,“ segir aðstandandi krabbameinsgreindrar konu en þau komu í síðustu Lífið er núna helgi.  \nAllt – matur\, fræðsla\, skemmtun og gisting innifalin í staðfestingargjaldinu\, 2500 krónum. \nTryggðu þér sæti strax í dag.  \nHér má sjá dagskrá helgarinnar. 
URL:https://kraftur.org/vidburdur/lifid-er-nuna-helgi-borgarfirdi/
LOCATION:Ensku húsin\, Langá\, Borgarnes\, Borgarfirði\, 311\, Iceland
ATTACH;FMTTYPE=image/jpeg:https://kraftur.org/wp-content/uploads/2019/09/Banner_oktober_Lifid_er_nuna_helgi_web-2.jpg
END:VEVENT
END:VCALENDAR