BEGIN:VCALENDAR
VERSION:2.0
PRODID:-//Kraftur - ECPv6.15.15//NONSGML v1.0//EN
CALSCALE:GREGORIAN
METHOD:PUBLISH
X-WR-CALNAME:Kraftur
X-ORIGINAL-URL:https://kraftur.org
X-WR-CALDESC:Viðburðir í Kraftur
REFRESH-INTERVAL;VALUE=DURATION:PT1H
X-Robots-Tag:noindex
X-PUBLISHED-TTL:PT1H
BEGIN:VTIMEZONE
TZID:UTC
BEGIN:STANDARD
TZOFFSETFROM:+0000
TZOFFSETTO:+0000
TZNAME:UTC
DTSTART:20180101T000000
END:STANDARD
END:VTIMEZONE
BEGIN:VEVENT
DTSTART;TZID=UTC:20191114T184500
DTEND;TZID=UTC:20191114T204500
DTSTAMP:20260423T062029
CREATED:20191031T103557Z
LAST-MODIFIED:20191031T103557Z
UID:1241393-1573757100-1573764300@kraftur.org
SUMMARY:Lasertag með Krafti
DESCRIPTION:Það verður geggjað stuð hjá okkur 14. nóvember en þá býður Kraftur félagsmönnum sínum í Lasertag. \nVið ætlum að hittast klukkan 18:45 að Salavegi 2 hjá Lasertag og skemmta okkur saman. Það geta verið 12 í leik í einu en í heildina er pláss fyrir 36 á þessu snilldar kvöldi. \nFyrsti leikur hefst klukkan 19.00 en við bjóðum líka fólki upp á pizzusneið og gos með og svo verður líka hægt að fara í þythokkí\, pool og í aðra skemmtilega leiki. \nAllir velkomnir\, stórir sem smáir en við þurfum að vita hversu margir koma svo endilega skráðu þig og þína til leiks.
URL:https://kraftur.org/vidburdur/lasertag-med-krafti/
LOCATION:lasertag\, Salavegur 2\, Kópavogur\, Kópavogur\, 201\, Iceland
ATTACH;FMTTYPE=image/jpeg:https://kraftur.org/wp-content/uploads/2019/10/banner_feb_lasertag-2-scaled.jpg
END:VEVENT
END:VCALENDAR